FILENAME: O4810626.NWS.1160123.tif
QUADRANGLE_NAME: LAUNDRY HILL
QUADRANT: NW
WEST_LONGITUDE: -106 52 30.00000
EAST_LONGITUDE: -106 48 45.00000
NORTH_LATITUDE: 48 37 30.00000
SOUTH_LATITUDE: 48 33 45.00000
PRODUCTION_DATE: 2001 8 23
RASTER_ORDER: LEFT_RIGHT/TOP_BOTTOM
BAND_ORGANIZATION: SINGLE FILE
BAND_CONTENT: BLACK&WHITE
BAND_CONTENT: UNDEFINED
BAND_CONTENT: UNDEFINED
BITS_PER_PIXEL: 8
SAMPLES_AND_LINES: 5432 7672
HORIZONTAL_DATUM: NAD83
HORIZONTAL_COORDINATE_SYSTEM: UTM
COORDINATE_ZONE: 13
HORIZONTAL_UNITS: meters
HORIZONTAL_RESOLUTION: 1.00000
SECONDARY_HORIZONTAL_DATUM: NAD27
XY_ORIGIN: 361313.00000 5387775.00000
SECONDARY_XY_ORIGIN: 361353.41600 5387552.99900
NATION: US
STATE: MT
NW_QUAD_CORNER_XY: 361834.24400 5387466.91100
NE_QUAD_CORNER_XY: 366439.57300 5387355.66500
SE_QUAD_CORNERY_XY: 366274.69000 5380408.76000
SW_QUAD_CORNER_XY: 361663.67200 5380520.03600
SECONDARY_NW_QUAD_XY: 361829.84000 5387247.97800
SECONDARY_NE_QUAD_XY: 366435.31600 5387136.72800
SECONDARY_SE_QUAD_XY: 366270.43300 5380189.83000
SECONDARY_SW_QUAD_XY: 361659.26800 5380301.11000
RMSE_XY: 3.64000
IMAGE_SOURCE: BLACK AND WHITE FILM
SOURCE_IMAGE_ID: NAPP 9085-044
SOURCE_IMAGE_DATE: 1996 6 13
SOURCE_DEM_DATE: 1994 0 0
AGENCY: WESTERN MAPPING CENTER (WMC)
PRODUCER: WOOLPERT LLP
PRODUCTION_SYSTEM: INTERGRAPH ISPM, ISIR
COMPRESSION: UNDEFINED
STANDARD_VERSION: 1996 12
METADATA_DATE: 2001 8 23
DATA_FILE_SIZE: 41679736
BYTE_COUNT: 5432
