FILENAME: O4810629.NES.1164377.tif
QUADRANGLE_NAME: CAMERON POINT
QUADRANT: NE
WEST_LONGITUDE: -106 26 15.00000
EAST_LONGITUDE: -106 22 30.00000
NORTH_LATITUDE: 48 37 30.00000
SOUTH_LATITUDE: 48 33 45.00000
PRODUCTION_DATE: 2001 9 15
RASTER_ORDER: LEFT_RIGHT/TOP_BOTTOM
BAND_ORGANIZATION: SINGLE FILE
BAND_CONTENT: BLACK&WHITE
BAND_CONTENT: UNDEFINED
BAND_CONTENT: UNDEFINED
BITS_PER_PIXEL: 8
SAMPLES_AND_LINES: 5391 7647
HORIZONTAL_DATUM: NAD83
HORIZONTAL_COORDINATE_SYSTEM: UTM
COORDINATE_ZONE: 13
HORIZONTAL_UNITS: meters
HORIZONTAL_RESOLUTION: 1.00000
SECONDARY_HORIZONTAL_DATUM: NAD27
XY_ORIGIN: 393592.00000 5387077.00000
SECONDARY_XY_ORIGIN: 393631.83400 5386854.41000
NATION: US
STATE: MT
NW_QUAD_CORNER_XY: 394071.94500 5386767.41800
NE_QUAD_CORNER_XY: 398677.39900 5386682.57900
SE_QUAD_CORNERY_XY: 398552.33000 5379735.49100
SW_QUAD_CORNER_XY: 393941.18800 5379820.35300
SECONDARY_NW_QUAD_XY: 394068.56800 5386548.46300
SECONDARY_NE_QUAD_XY: 398674.16900 5386463.62200
SECONDARY_SE_QUAD_XY: 398549.10000 5379516.54000
SECONDARY_SW_QUAD_XY: 393937.81200 5379601.40400
RMSE_XY: 2.75000
IMAGE_SOURCE: BLACK AND WHITE FILM
SOURCE_IMAGE_ID: NAPP 9109-203
SOURCE_IMAGE_DATE: 1996 8 11
SOURCE_DEM_DATE: 1998 0 0
AGENCY: WESTERN MAPPING CENTER (WMC)
PRODUCER: WOOLPERT LLP
PRODUCTION_SYSTEM: INTERGRAPH ISPM, ISIR
COMPRESSION: UNDEFINED
STANDARD_VERSION: 1996 12
METADATA_DATE: 2001 9 15
DATA_FILE_SIZE: 41230368
BYTE_COUNT: 5391
