FILENAME: O4810632.SWS.1164404.tif
QUADRANGLE_NAME: BLINK SPRINGS
QUADRANT: SW
WEST_LONGITUDE: -106 7 30.00000
EAST_LONGITUDE: -106 3 45.00000
NORTH_LATITUDE: 48 33 45.00000
SOUTH_LATITUDE: 48 30 0.00000
PRODUCTION_DATE: 2001 9 15
RASTER_ORDER: LEFT_RIGHT/TOP_BOTTOM
BAND_ORGANIZATION: SINGLE FILE
BAND_CONTENT: BLACK&WHITE
BAND_CONTENT: UNDEFINED
BAND_CONTENT: UNDEFINED
BITS_PER_PIXEL: 8
SAMPLES_AND_LINES: 5367 7628
HORIZONTAL_DATUM: NAD83
HORIZONTAL_COORDINATE_SYSTEM: UTM
COORDINATE_ZONE: 13
HORIZONTAL_UNITS: meters
HORIZONTAL_RESOLUTION: 1.00000
SECONDARY_HORIZONTAL_DATUM: NAD27
XY_ORIGIN: 416547.00000 5379743.00000
SECONDARY_XY_ORIGIN: 416586.74000 5379520.58300
NATION: US
STATE: MT
NW_QUAD_CORNER_XY: 416997.03700 5379433.77200
NE_QUAD_CORNER_XY: 421608.24600 5379367.77200
SE_QUAD_CORNERY_XY: 421511.70200 5372420.65700
SW_QUAD_CORNER_XY: 416894.81300 5372486.67400
SECONDARY_NW_QUAD_XY: 416994.39500 5379214.81100
SECONDARY_NE_QUAD_XY: 421605.75000 5379148.81000
SECONDARY_SE_QUAD_XY: 421509.20600 5372201.70200
SECONDARY_SW_QUAD_XY: 416892.17000 5372267.72100
RMSE_XY: 4.61000
IMAGE_SOURCE: BLACK AND WHITE FILM
SOURCE_IMAGE_ID: NAPP 9095-169
SOURCE_IMAGE_DATE: 1996 7 9
SOURCE_DEM_DATE: 1998 0 0
AGENCY: WESTERN MAPPING CENTER (WMC)
PRODUCER: WOOLPERT LLP
PRODUCTION_SYSTEM: INTERGRAPH ISPM, ISIR
COMPRESSION: UNDEFINED
STANDARD_VERSION: 1996 12
METADATA_DATE: 2001 9 17
DATA_FILE_SIZE: 40944843
BYTE_COUNT: 5367
