FILENAME: O4810634.NWS.1137096.tif
QUADRANGLE_NAME: TAMPICO NE
QUADRANT: NW
WEST_LONGITUDE: -106 52 30.00000
EAST_LONGITUDE: -106 48 45.00000
NORTH_LATITUDE: 48 30 0.00000
SOUTH_LATITUDE: 48 26 15.00000
PRODUCTION_DATE: 2001 3 21
RASTER_ORDER: LEFT_RIGHT/TOP_BOTTOM
BAND_ORGANIZATION: SINGLE FILE
BAND_CONTENT: BLACK&WHITE
BAND_CONTENT: UNDEFINED
BAND_CONTENT: UNDEFINED
BITS_PER_PIXEL: 8
SAMPLES_AND_LINES: 5443 7672
HORIZONTAL_DATUM: NAD83
HORIZONTAL_COORDINATE_SYSTEM: UTM
COORDINATE_ZONE: 13
HORIZONTAL_UNITS: meters
HORIZONTAL_RESOLUTION: 1.00000
SECONDARY_HORIZONTAL_DATUM: NAD27
XY_ORIGIN: 360972.00000 5373882.00000
SECONDARY_XY_ORIGIN: 361012.67500 5373660.17600
NATION: US
STATE: MT
NW_QUAD_CORNER_XY: 361493.26600 5373573.22900
NE_QUAD_CORNER_XY: 366109.96700 5373461.92300
SE_QUAD_CORNERY_XY: 365945.40500 5366515.15500
SW_QUAD_CORNER_XY: 361323.02600 5366626.49000
SECONDARY_NW_QUAD_XY: 361488.86200 5373354.31100
SECONDARY_NE_QUAD_XY: 366105.71000 5373243.00100
SECONDARY_SE_QUAD_XY: 365941.14800 5366296.24200
SECONDARY_SW_QUAD_XY: 361318.62200 5366407.58000
RMSE_XY: 2.14000
IMAGE_SOURCE: BLACK AND WHITE FILM
SOURCE_IMAGE_ID: NAPP 9085-040
SOURCE_IMAGE_DATE: 1996 6 13
SOURCE_DEM_DATE: 1998 0 0
AGENCY: WESTERN MAPPING CENTER (WMC)
PRODUCER: WOOLPERT LLP
PRODUCTION_SYSTEM: INTERGRAPH ISPM, ISIR
COMPRESSION: UNDEFINED
STANDARD_VERSION: 1996 12
METADATA_DATE: 2001 3 21
DATA_FILE_SIZE: 41764139
BYTE_COUNT: 5443
