FILENAME: O4810636.NWS.1160139.tif
QUADRANGLE_NAME: CHAPMAN COULEE NE
QUADRANT: NW
WEST_LONGITUDE: -106 37 30.00000
EAST_LONGITUDE: -106 33 45.00000
NORTH_LATITUDE: 48 30 0.00000
SOUTH_LATITUDE: 48 26 15.00000
PRODUCTION_DATE: 2001 8 23
RASTER_ORDER: LEFT_RIGHT/TOP_BOTTOM
BAND_ORGANIZATION: SINGLE FILE
BAND_CONTENT: BLACK&WHITE
BAND_CONTENT: UNDEFINED
BAND_CONTENT: UNDEFINED
BITS_PER_PIXEL: 8
SAMPLES_AND_LINES: 5419 7658
HORIZONTAL_DATUM: NAD83
HORIZONTAL_COORDINATE_SYSTEM: UTM
COORDINATE_ZONE: 13
HORIZONTAL_UNITS: meters
HORIZONTAL_RESOLUTION: 1.00000
SECONDARY_HORIZONTAL_DATUM: NAD27
XY_ORIGIN: 379463.00000 5373460.00000
SECONDARY_XY_ORIGIN: 379503.24100 5373237.62000
NATION: US
STATE: MT
NW_QUAD_CORNER_XY: 379960.18600 5373150.65600
NE_QUAD_CORNER_XY: 384576.96100 5373054.44900
SE_QUAD_CORNERY_XY: 384435.10700 5366107.57400
SW_QUAD_CORNER_XY: 379812.65500 5366203.80600
SECONDARY_NW_QUAD_XY: 379956.36900 5372931.72400
SECONDARY_NE_QUAD_XY: 384573.29100 5372835.51400
SECONDARY_SE_QUAD_XY: 384431.43700 5365888.64700
SECONDARY_SW_QUAD_XY: 379808.83900 5365984.88200
RMSE_XY: 3.53000
IMAGE_SOURCE: BLACK AND WHITE FILM
SOURCE_IMAGE_ID: NAPP 9110-158
SOURCE_IMAGE_DATE: 1996 8 11
SOURCE_DEM_DATE: 1998 0 0
AGENCY: WESTERN MAPPING CENTER (WMC)
PRODUCER: WOOLPERT LLP
PRODUCTION_SYSTEM: INTERGRAPH ISPM, ISIR
COMPRESSION: UNDEFINED
STANDARD_VERSION: 1996 12
METADATA_DATE: 2001 8 23
DATA_FILE_SIZE: 41504121
BYTE_COUNT: 5419
