FILENAME: O4810636.NES.1160138.tif
QUADRANGLE_NAME: CHAPMAN COULEE NE
QUADRANT: NE
WEST_LONGITUDE: -106 33 45.00000
EAST_LONGITUDE: -106 30 0.00000
NORTH_LATITUDE: 48 30 0.00000
SOUTH_LATITUDE: 48 26 15.00000
PRODUCTION_DATE: 2001 8 23
RASTER_ORDER: LEFT_RIGHT/TOP_BOTTOM
BAND_ORGANIZATION: SINGLE FILE
BAND_CONTENT: BLACK&WHITE
BAND_CONTENT: UNDEFINED
BAND_CONTENT: UNDEFINED
BITS_PER_PIXEL: 8
SAMPLES_AND_LINES: 5413 7654
HORIZONTAL_DATUM: NAD83
HORIZONTAL_COORDINATE_SYSTEM: UTM
COORDINATE_ZONE: 13
HORIZONTAL_UNITS: meters
HORIZONTAL_RESOLUTION: 1.00000
SECONDARY_HORIZONTAL_DATUM: NAD27
XY_ORIGIN: 384086.00000 5373364.00000
SECONDARY_XY_ORIGIN: 384126.15200 5373141.51600
NATION: US
STATE: MT
NW_QUAD_CORNER_XY: 384576.96100 5373054.44900
NE_QUAD_CORNER_XY: 389193.75200 5372962.01700
SE_QUAD_CORNERY_XY: 389057.57500 5366015.11700
SW_QUAD_CORNER_XY: 384435.10700 5366107.57400
SECONDARY_NW_QUAD_XY: 384573.29100 5372835.51400
SECONDARY_NE_QUAD_XY: 389190.22900 5372743.07900
SECONDARY_SE_QUAD_XY: 389054.05200 5365796.18800
SECONDARY_SW_QUAD_XY: 384431.43700 5365888.64700
RMSE_XY: 3.33000
IMAGE_SOURCE: BLACK AND WHITE FILM
SOURCE_IMAGE_ID: NAPP 9110-121
SOURCE_IMAGE_DATE: 1996 8 11
SOURCE_DEM_DATE: 1998 0 0
AGENCY: WESTERN MAPPING CENTER (WMC)
PRODUCER: WOOLPERT LLP
PRODUCTION_SYSTEM: INTERGRAPH ISPM, ISIR
COMPRESSION: UNDEFINED
STANDARD_VERSION: 1996 12
METADATA_DATE: 2001 8 23
DATA_FILE_SIZE: 41436515
BYTE_COUNT: 5413
