FILENAME: O4810637.SES.1164383.tif
QUADRANGLE_NAME: LOOKOUT
QUADRANT: SE
WEST_LONGITUDE: -106 26 15.00000
EAST_LONGITUDE: -106 22 30.00000
NORTH_LATITUDE: 48 26 15.00000
SOUTH_LATITUDE: 48 22 30.00000
PRODUCTION_DATE: 2001 9 15
RASTER_ORDER: LEFT_RIGHT/TOP_BOTTOM
BAND_ORGANIZATION: SINGLE FILE
BAND_CONTENT: BLACK&WHITE
BAND_CONTENT: UNDEFINED
BAND_CONTENT: UNDEFINED
BITS_PER_PIXEL: 8
SAMPLES_AND_LINES: 5407 7646
HORIZONTAL_DATUM: NAD83
HORIZONTAL_COORDINATE_SYSTEM: UTM
COORDINATE_ZONE: 13
HORIZONTAL_UNITS: meters
HORIZONTAL_RESOLUTION: 1.00000
SECONDARY_HORIZONTAL_DATUM: NAD27
XY_ORIGIN: 393201.00000 5366235.00000
SECONDARY_XY_ORIGIN: 393241.10100 5366012.50600
NATION: US
STATE: MT
NW_QUAD_CORNER_XY: 393680.05800 5365926.43600
NE_QUAD_CORNER_XY: 398302.55700 5365841.52900
SE_QUAD_CORNERY_XY: 398177.85300 5358894.65600
SW_QUAD_CORNER_XY: 393549.68400 5358979.58400
SECONDARY_NW_QUAD_XY: 393676.68200 5365707.50400
SECONDARY_NE_QUAD_XY: 398299.32700 5365622.59400
SECONDARY_SE_QUAD_XY: 398174.62400 5358675.73000
SECONDARY_SW_QUAD_XY: 393546.30800 5358760.66100
RMSE_XY: 3.81000
IMAGE_SOURCE: BLACK AND WHITE FILM
SOURCE_IMAGE_ID: NAPP 9109-197
SOURCE_IMAGE_DATE: 1996 8 11
SOURCE_DEM_DATE: 1998 0 0
AGENCY: WESTERN MAPPING CENTER (WMC)
PRODUCER: WOOLPERT LLP
PRODUCTION_SYSTEM: INTERGRAPH ISPM, ISIR
COMPRESSION: UNDEFINED
STANDARD_VERSION: 1996 12
METADATA_DATE: 2001 9 15
DATA_FILE_SIZE: 41347329
BYTE_COUNT: 5407
