FILENAME: O4810637.NWS.1164382.tif
QUADRANGLE_NAME: LOOKOUT
QUADRANT: NW
WEST_LONGITUDE: -106 30 0.00000
EAST_LONGITUDE: -106 26 15.00000
NORTH_LATITUDE: 48 30 0.00000
SOUTH_LATITUDE: 48 26 15.00000
PRODUCTION_DATE: 2001 9 15
RASTER_ORDER: LEFT_RIGHT/TOP_BOTTOM
BAND_ORGANIZATION: SINGLE FILE
BAND_CONTENT: BLACK&WHITE
BAND_CONTENT: UNDEFINED
BAND_CONTENT: UNDEFINED
BITS_PER_PIXEL: 8
SAMPLES_AND_LINES: 5408 7650
HORIZONTAL_DATUM: NAD83
HORIZONTAL_COORDINATE_SYSTEM: UTM
COORDINATE_ZONE: 13
HORIZONTAL_UNITS: meters
HORIZONTAL_RESOLUTION: 1.00000
SECONDARY_HORIZONTAL_DATUM: NAD27
XY_ORIGIN: 388708.00000 5373271.00000
SECONDARY_XY_ORIGIN: 388748.06300 5373048.41100
NATION: US
STATE: MT
NW_QUAD_CORNER_XY: 389193.75200 5372962.01700
NE_QUAD_CORNER_XY: 393810.56000 5372873.35900
SE_QUAD_CORNERY_XY: 393680.05800 5365926.43600
SW_QUAD_CORNER_XY: 389057.57500 5366015.11700
SECONDARY_NW_QUAD_XY: 389190.22900 5372743.07900
SECONDARY_NE_QUAD_XY: 393807.18300 5372654.41800
SECONDARY_SE_QUAD_XY: 393676.68200 5365707.50400
SECONDARY_SW_QUAD_XY: 389054.05200 5365796.18800
RMSE_XY: 3.11000
IMAGE_SOURCE: BLACK AND WHITE FILM
SOURCE_IMAGE_ID: NAPP 9109-112
SOURCE_IMAGE_DATE: 1996 8 11
SOURCE_DEM_DATE: 1998 0 0
AGENCY: WESTERN MAPPING CENTER (WMC)
PRODUCER: WOOLPERT LLP
PRODUCTION_SYSTEM: INTERGRAPH ISPM, ISIR
COMPRESSION: UNDEFINED
STANDARD_VERSION: 1996 12
METADATA_DATE: 2001 9 15
DATA_FILE_SIZE: 41376608
BYTE_COUNT: 5408
