FILENAME: O4810639.SWS.1164396.tif
QUADRANGLE_NAME: SPRING VALLEY WEST
QUADRANT: SW
WEST_LONGITUDE: -106 15 0.00000
EAST_LONGITUDE: -106 11 15.00000
NORTH_LATITUDE: 48 26 15.00000
SOUTH_LATITUDE: 48 22 30.00000
PRODUCTION_DATE: 2001 9 15
RASTER_ORDER: LEFT_RIGHT/TOP_BOTTOM
BAND_ORGANIZATION: SINGLE FILE
BAND_CONTENT: BLACK&WHITE
BAND_CONTENT: UNDEFINED
BAND_CONTENT: UNDEFINED
BITS_PER_PIXEL: 8
SAMPLES_AND_LINES: 5390 7635
HORIZONTAL_DATUM: NAD83
HORIZONTAL_COORDINATE_SYSTEM: UTM
COORDINATE_ZONE: 13
HORIZONTAL_UNITS: meters
HORIZONTAL_RESOLUTION: 1.00000
SECONDARY_HORIZONTAL_DATUM: NAD27
XY_ORIGIN: 407086.00000 5365992.00000
SECONDARY_XY_ORIGIN: 407125.90800 5365769.60000
NATION: US
STATE: MT
NW_QUAD_CORNER_XY: 407547.59600 5365683.04100
NE_QUAD_CORNER_XY: 412170.13600 5365609.45800
SE_QUAD_CORNERY_XY: 412062.44100 5358662.52400
SW_QUAD_CORNER_XY: 407434.23200 5358736.12600
SECONDARY_NW_QUAD_XY: 407544.66000 5365464.10100
SECONDARY_NE_QUAD_XY: 412167.34700 5365390.51600
SECONDARY_SE_QUAD_XY: 412059.65300 5358443.59100
SECONDARY_SW_QUAD_XY: 407431.29700 5358517.19500
RMSE_XY: 3.54000
IMAGE_SOURCE: BLACK AND WHITE FILM
SOURCE_IMAGE_ID: NAPP 9122-104
SOURCE_IMAGE_DATE: 1996 9 11
SOURCE_DEM_DATE: 1998 0 0
AGENCY: WESTERN MAPPING CENTER (WMC)
PRODUCER: WOOLPERT LLP
PRODUCTION_SYSTEM: INTERGRAPH ISPM, ISIR
COMPRESSION: UNDEFINED
STANDARD_VERSION: 1996 12
METADATA_DATE: 2001 9 17
DATA_FILE_SIZE: 41158040
BYTE_COUNT: 5390
