FILENAME: O4810639.SES.1164395.tif
QUADRANGLE_NAME: SPRING VALLEY WEST
QUADRANT: SE
WEST_LONGITUDE: -106 11 15.00000
EAST_LONGITUDE: -106 7 30.00000
NORTH_LATITUDE: 48 26 15.00000
SOUTH_LATITUDE: 48 22 30.00000
PRODUCTION_DATE: 2001 9 15
RASTER_ORDER: LEFT_RIGHT/TOP_BOTTOM
BAND_ORGANIZATION: SINGLE FILE
BAND_CONTENT: BLACK&WHITE
BAND_CONTENT: UNDEFINED
BAND_CONTENT: UNDEFINED
BITS_PER_PIXEL: 8
SAMPLES_AND_LINES: 5384 7631
HORIZONTAL_DATUM: NAD83
HORIZONTAL_COORDINATE_SYSTEM: UTM
COORDINATE_ZONE: 13
HORIZONTAL_UNITS: meters
HORIZONTAL_RESOLUTION: 1.00000
SECONDARY_HORIZONTAL_DATUM: NAD27
XY_ORIGIN: 411714.00000 5365918.00000
SECONDARY_XY_ORIGIN: 411753.88400 5365695.65700
NATION: US
STATE: MT
NW_QUAD_CORNER_XY: 412170.13600 5365609.45800
NE_QUAD_CORNER_XY: 416792.68800 5365539.65000
SE_QUAD_CORNERY_XY: 416690.66300 5358592.69800
SW_QUAD_CORNER_XY: 412062.44100 5358662.52400
SECONDARY_NW_QUAD_XY: 412167.34700 5365390.51600
SECONDARY_NE_QUAD_XY: 416790.04600 5365320.70500
SECONDARY_SE_QUAD_XY: 416688.02100 5358373.76300
SECONDARY_SW_QUAD_XY: 412059.65300 5358443.59100
RMSE_XY: 3.17000
IMAGE_SOURCE: BLACK AND WHITE FILM
SOURCE_IMAGE_ID: NAPP 9095-192
SOURCE_IMAGE_DATE: 1996 7 9
SOURCE_DEM_DATE: 1998 0 0
AGENCY: WESTERN MAPPING CENTER (WMC)
PRODUCER: WOOLPERT LLP
PRODUCTION_SYSTEM: INTERGRAPH ISPM, ISIR
COMPRESSION: UNDEFINED
STANDARD_VERSION: 1996 12
METADATA_DATE: 2001 9 17
DATA_FILE_SIZE: 41090688
BYTE_COUNT: 5384
