FILENAME: O4810639.NES.1164393.tif
QUADRANGLE_NAME: SPRING VALLEY WEST
QUADRANT: NE
WEST_LONGITUDE: -106 11 15.00000
EAST_LONGITUDE: -106 7 30.00000
NORTH_LATITUDE: 48 30 0.00000
SOUTH_LATITUDE: 48 26 15.00000
PRODUCTION_DATE: 2001 9 15
RASTER_ORDER: LEFT_RIGHT/TOP_BOTTOM
BAND_ORGANIZATION: SINGLE FILE
BAND_CONTENT: BLACK&WHITE
BAND_CONTENT: UNDEFINED
BAND_CONTENT: UNDEFINED
BITS_PER_PIXEL: 8
SAMPLES_AND_LINES: 5378 7631
HORIZONTAL_DATUM: NAD83
HORIZONTAL_COORDINATE_SYSTEM: UTM
COORDINATE_ZONE: 13
HORIZONTAL_UNITS: meters
HORIZONTAL_RESOLUTION: 1.00000
SECONDARY_HORIZONTAL_DATUM: NAD27
XY_ORIGIN: 411822.00000 5372865.00000
SECONDARY_XY_ORIGIN: 411861.81100 5372642.56000
NATION: US
STATE: MT
NW_QUAD_CORNER_XY: 412277.93500 5372556.46400
NE_QUAD_CORNER_XY: 416894.81300 5372486.67400
SE_QUAD_CORNERY_XY: 416792.68800 5365539.65000
SW_QUAD_CORNER_XY: 412170.13600 5365609.45800
SECONDARY_NW_QUAD_XY: 412275.14600 5372337.51300
SECONDARY_NE_QUAD_XY: 416892.17000 5372267.72100
SECONDARY_SE_QUAD_XY: 416790.04600 5365320.70500
SECONDARY_SW_QUAD_XY: 412167.34700 5365390.51600
RMSE_XY: 2.75000
IMAGE_SOURCE: BLACK AND WHITE FILM
SOURCE_IMAGE_ID: NAPP 9095-194
SOURCE_IMAGE_DATE: 1996 7 9
SOURCE_DEM_DATE: 1998 0 0
AGENCY: WESTERN MAPPING CENTER (WMC)
PRODUCER: WOOLPERT LLP
PRODUCTION_SYSTEM: INTERGRAPH ISPM, ISIR
COMPRESSION: UNDEFINED
STANDARD_VERSION: 1996 12
METADATA_DATE: 2001 9 17
DATA_FILE_SIZE: 41044896
BYTE_COUNT: 5378
