FILENAME: O4810640.SWS.1164408.tif
QUADRANGLE_NAME: SPRING VALLEY EAST
QUADRANT: SW
WEST_LONGITUDE: -106 7 30.00000
EAST_LONGITUDE: -106 3 45.00000
NORTH_LATITUDE: 48 26 15.00000
SOUTH_LATITUDE: 48 22 30.00000
PRODUCTION_DATE: 2001 9 15
RASTER_ORDER: LEFT_RIGHT/TOP_BOTTOM
BAND_ORGANIZATION: SINGLE FILE
BAND_CONTENT: BLACK&WHITE
BAND_CONTENT: UNDEFINED
BAND_CONTENT: UNDEFINED
BITS_PER_PIXEL: 8
SAMPLES_AND_LINES: 5378 7627
HORIZONTAL_DATUM: NAD83
HORIZONTAL_COORDINATE_SYSTEM: UTM
COORDINATE_ZONE: 13
HORIZONTAL_UNITS: meters
HORIZONTAL_RESOLUTION: 1.00000
SECONDARY_HORIZONTAL_DATUM: NAD27
XY_ORIGIN: 416343.00000 5365848.00000
SECONDARY_XY_ORIGIN: 416382.86300 5365625.71700
NATION: US
STATE: MT
NW_QUAD_CORNER_XY: 416792.68800 5365539.65000
NE_QUAD_CORNER_XY: 421415.25200 5365473.61600
SE_QUAD_CORNERY_XY: 421318.89600 5358526.64700
SW_QUAD_CORNER_XY: 416690.66300 5358592.69800
SECONDARY_NW_QUAD_XY: 416790.04600 5365320.70500
SECONDARY_NE_QUAD_XY: 421412.75600 5365254.66900
SECONDARY_SE_QUAD_XY: 421316.40100 5358307.71000
SECONDARY_SW_QUAD_XY: 416688.02100 5358373.76300
RMSE_XY: 3.97000
IMAGE_SOURCE: BLACK AND WHITE FILM
SOURCE_IMAGE_ID: NAPP 9095-173
SOURCE_IMAGE_DATE: 1996 7 9
SOURCE_DEM_DATE: 1998 0 0
AGENCY: WESTERN MAPPING CENTER (WMC)
PRODUCER: WOOLPERT LLP
PRODUCTION_SYSTEM: INTERGRAPH ISPM, ISIR
COMPRESSION: UNDEFINED
STANDARD_VERSION: 1996 12
METADATA_DATE: 2001 9 17
DATA_FILE_SIZE: 41023384
BYTE_COUNT: 5378
