FILENAME: O4810641.SES.1137165.tif
QUADRANGLE_NAME: VANDALIA
QUADRANT: SE
WEST_LONGITUDE: -106 56 15.00000
EAST_LONGITUDE: -106 52 30.00000
NORTH_LATITUDE: 48 18 45.00000
SOUTH_LATITUDE: 48 15 0.00000
PRODUCTION_DATE: 2001 3 1
RASTER_ORDER: LEFT_RIGHT/TOP_BOTTOM
BAND_ORGANIZATION: SINGLE FILE
BAND_CONTENT: BLACK&WHITE
BAND_CONTENT: UNDEFINED
BAND_CONTENT: UNDEFINED
BITS_PER_PIXEL: 8
SAMPLES_AND_LINES: 5467 7675
HORIZONTAL_DATUM: NAD83
HORIZONTAL_COORDINATE_SYSTEM: UTM
COORDINATE_ZONE: 13
HORIZONTAL_UNITS: meters
HORIZONTAL_RESOLUTION: 1.00000
SECONDARY_HORIZONTAL_DATUM: NAD27
XY_ORIGIN: 355822.00000 5353156.00000
SECONDARY_XY_ORIGIN: 355863.25500 5352934.53400
NATION: US
STATE: MT
NW_QUAD_CORNER_XY: 356349.34500 5352848.38600
NE_QUAD_CORNER_XY: 360983.04400 5352733.21500
SE_QUAD_CORNERY_XY: 360813.30400 5345786.68000
SW_QUAD_CORNER_XY: 356173.94200 5345901.87900
SECONDARY_NW_QUAD_XY: 356344.79500 5352629.49900
SECONDARY_NE_QUAD_XY: 360978.64100 5352514.32500
SECONDARY_SE_QUAD_XY: 360808.90100 5345567.80000
SECONDARY_SW_QUAD_XY: 356169.39300 5345683.00300
RMSE_XY: 1.64000
IMAGE_SOURCE: BLACK AND WHITE FILM
SOURCE_IMAGE_ID: NAPP 10723-057
SOURCE_IMAGE_DATE: 1997 8 28
SOURCE_DEM_DATE: 1998 0 0
AGENCY: WESTERN MAPPING CENTER (WMC)
PRODUCER: WOOLPERT LLP
PRODUCTION_SYSTEM: INTERGRAPH ISPM, ISIR
COMPRESSION: UNDEFINED
STANDARD_VERSION: 1996 12
METADATA_DATE: 2001 3 1
DATA_FILE_SIZE: 41964692
BYTE_COUNT: 5467
