FILENAME: O4810641.NWS.1137164.tif
QUADRANGLE_NAME: VANDALIA
QUADRANT: NW
WEST_LONGITUDE: -107 0 0.00000
EAST_LONGITUDE: -106 56 15.00000
NORTH_LATITUDE: 48 22 30.00000
SOUTH_LATITUDE: 48 18 45.00000
PRODUCTION_DATE: 2001 3 1
RASTER_ORDER: LEFT_RIGHT/TOP_BOTTOM
BAND_ORGANIZATION: SINGLE FILE
BAND_CONTENT: BLACK&WHITE
BAND_CONTENT: UNDEFINED
BAND_CONTENT: UNDEFINED
BITS_PER_PIXEL: 8
SAMPLES_AND_LINES: 5466 7679
HORIZONTAL_DATUM: NAD83
HORIZONTAL_COORDINATE_SYSTEM: UTM
COORDINATE_ZONE: 13
HORIZONTAL_UNITS: meters
HORIZONTAL_RESOLUTION: 1.00000
SECONDARY_HORIZONTAL_DATUM: NAD27
XY_ORIGIN: 351364.00000 5360222.00000
SECONDARY_XY_ORIGIN: 351405.25000 5360000.64300
NATION: US
STATE: MT
NW_QUAD_CORNER_XY: 351896.90700 5359913.87900
NE_QUAD_CORNER_XY: 356524.91900 5359794.96000
SE_QUAD_CORNERY_XY: 356349.34500 5352848.38600
SW_QUAD_CORNER_XY: 351715.66500 5352967.33500
SECONDARY_NW_QUAD_XY: 351892.21000 5359694.98600
SECONDARY_NE_QUAD_XY: 356520.36900 5359576.06300
SECONDARY_SE_QUAD_XY: 356344.79500 5352629.49900
SECONDARY_SW_QUAD_XY: 351710.96800 5352748.45100
RMSE_XY: 1.73000
IMAGE_SOURCE: BLACK AND WHITE FILM
SOURCE_IMAGE_ID: NAPP 9101-041
SOURCE_IMAGE_DATE: 1996 7 15
SOURCE_IMAGE_ID: NAPP 9101-085
SOURCE_IMAGE_DATE: 1996 7 15
SOURCE_DEM_DATE: 1998 0 0
AGENCY: WESTERN MAPPING CENTER (WMC)
PRODUCER: WOOLPERT LLP
PRODUCTION_SYSTEM: INTERGRAPH ISPM, ISIR
COMPRESSION: UNDEFINED
STANDARD_VERSION: 1996 12
METADATA_DATE: 2001 4 3
DATA_FILE_SIZE: 41978880
BYTE_COUNT: 5466
