FILENAME: O4810643.SES.1137209.tif
QUADRANGLE_NAME: CHAPMAN COULEE
QUADRANT: SE
WEST_LONGITUDE: -106 41 15.00000
EAST_LONGITUDE: -106 37 30.00000
NORTH_LATITUDE: 48 18 45.00000
SOUTH_LATITUDE: 48 15 0.00000
PRODUCTION_DATE: 2001 3 23
RASTER_ORDER: LEFT_RIGHT/TOP_BOTTOM
BAND_ORGANIZATION: SINGLE FILE
BAND_CONTENT: BLACK&WHITE
BAND_CONTENT: UNDEFINED
BAND_CONTENT: UNDEFINED
BITS_PER_PIXEL: 8
SAMPLES_AND_LINES: 5443 7661
HORIZONTAL_DATUM: NAD83
HORIZONTAL_COORDINATE_SYSTEM: UTM
COORDINATE_ZONE: 13
HORIZONTAL_UNITS: meters
HORIZONTAL_RESOLUTION: 1.00000
SECONDARY_HORIZONTAL_DATUM: NAD27
XY_ORIGIN: 374381.00000 5352719.00000
SECONDARY_XY_ORIGIN: 374421.69500 5352496.93100
NATION: US
STATE: MT
NW_QUAD_CORNER_XY: 374884.25500 5352410.37300
NE_QUAD_CORNER_XY: 379518.02700 5352310.31500
SE_QUAD_CORNERY_XY: 379370.92900 5345363.67400
SW_QUAD_CORNER_XY: 374731.49700 5345463.75700
SECONDARY_NW_QUAD_XY: 374880.29200 5352191.47200
SECONDARY_NE_QUAD_XY: 379514.21000 5352091.41100
SECONDARY_SE_QUAD_XY: 379367.11300 5345144.78100
SECONDARY_SW_QUAD_XY: 374727.53400 5345244.86700
RMSE_XY: 1.76000
IMAGE_SOURCE: BLACK AND WHITE FILM
SOURCE_IMAGE_ID: NAPP 9111-133
SOURCE_IMAGE_DATE: 1996 8 11
SOURCE_DEM_DATE: 1998 0 0
AGENCY: WESTERN MAPPING CENTER (WMC)
PRODUCER: WOOLPERT LLP
PRODUCTION_SYSTEM: INTERGRAPH ISPM, ISIR
COMPRESSION: UNDEFINED
STANDARD_VERSION: 1996 12
METADATA_DATE: 2001 3 23
DATA_FILE_SIZE: 41704266
BYTE_COUNT: 5443
