FILENAME: O4810643.NWS.1137208.tif
QUADRANGLE_NAME: CHAPMAN COULEE
QUADRANT: NW
WEST_LONGITUDE: -106 45 0.00000
EAST_LONGITUDE: -106 41 15.00000
NORTH_LATITUDE: 48 22 30.00000
SOUTH_LATITUDE: 48 18 45.00000
PRODUCTION_DATE: 2001 3 23
RASTER_ORDER: LEFT_RIGHT/TOP_BOTTOM
BAND_ORGANIZATION: SINGLE FILE
BAND_CONTENT: BLACK&WHITE
BAND_CONTENT: UNDEFINED
BAND_CONTENT: UNDEFINED
BITS_PER_PIXEL: 8
SAMPLES_AND_LINES: 5443 7665
HORIZONTAL_DATUM: NAD83
HORIZONTAL_COORDINATE_SYSTEM: UTM
COORDINATE_ZONE: 13
HORIZONTAL_UNITS: meters
HORIZONTAL_RESOLUTION: 1.00000
SECONDARY_HORIZONTAL_DATUM: NAD27
XY_ORIGIN: 369900.00000 5359770.00000
SECONDARY_XY_ORIGIN: 369940.67700 5359547.96400
NATION: US
STATE: MT
NW_QUAD_CORNER_XY: 370409.07400 5359460.86800
NE_QUAD_CORNER_XY: 375037.16300 5359357.05800
SE_QUAD_CORNERY_XY: 374884.25500 5352410.37300
SW_QUAD_CORNER_XY: 370250.50000 5352514.20900
SECONDARY_NW_QUAD_XY: 370404.96400 5359241.96100
SECONDARY_NE_QUAD_XY: 375033.20000 5359138.14800
SECONDARY_SE_QUAD_XY: 374880.29200 5352191.47200
SECONDARY_SW_QUAD_XY: 370246.39100 5352295.31200
RMSE_XY: 1.64000
IMAGE_SOURCE: BLACK AND WHITE FILM
SOURCE_IMAGE_ID: NAPP 9111-180
SOURCE_IMAGE_DATE: 1996 8 11
SOURCE_DEM_DATE: 1998 0 0
AGENCY: WESTERN MAPPING CENTER (WMC)
PRODUCER: WOOLPERT LLP
PRODUCTION_SYSTEM: INTERGRAPH ISPM, ISIR
COMPRESSION: UNDEFINED
STANDARD_VERSION: 1996 12
METADATA_DATE: 2001 3 23
DATA_FILE_SIZE: 41726038
BYTE_COUNT: 5443
