FILENAME: O4810646.SES.1164459.tif
QUADRANGLE_NAME: SARGENT CREEK
QUADRANT: SE
WEST_LONGITUDE: -106 18 45.00000
EAST_LONGITUDE: -106 15 0.00000
NORTH_LATITUDE: 48 18 45.00000
SOUTH_LATITUDE: 48 15 0.00000
PRODUCTION_DATE: 2001 9 15
RASTER_ORDER: LEFT_RIGHT/TOP_BOTTOM
BAND_ORGANIZATION: SINGLE FILE
BAND_CONTENT: BLACK&WHITE
BAND_CONTENT: UNDEFINED
BAND_CONTENT: UNDEFINED
BITS_PER_PIXEL: 8
SAMPLES_AND_LINES: 5406 7638
HORIZONTAL_DATUM: NAD83
HORIZONTAL_COORDINATE_SYSTEM: UTM
COORDINATE_ZONE: 13
HORIZONTAL_UNITS: meters
HORIZONTAL_RESOLUTION: 1.00000
SECONDARY_HORIZONTAL_DATUM: NAD27
XY_ORIGIN: 402220.00000 5352175.00000
SECONDARY_XY_ORIGIN: 402260.13800 5351952.76200
NATION: US
STATE: MT
NW_QUAD_CORNER_XY: 402687.11900 5351866.68000
NE_QUAD_CORNER_XY: 407320.97900 5351789.28400
SE_QUAD_CORNERY_XY: 407207.83700 5344842.51400
SW_QUAD_CORNER_XY: 402568.31800 5344919.92900
SECONDARY_NW_QUAD_XY: 402684.03600 5351647.76200
SECONDARY_NE_QUAD_XY: 407318.04400 5351570.36300
SECONDARY_SE_QUAD_XY: 407204.90200 5344623.60400
SECONDARY_SW_QUAD_XY: 402565.23600 5344701.02200
RMSE_XY: 3.14000
IMAGE_SOURCE: BLACK AND WHITE FILM
SOURCE_IMAGE_ID: NAPP 9122-063
SOURCE_IMAGE_DATE: 1996 9 11
SOURCE_DEM_DATE: 1998 0 0
AGENCY: WESTERN MAPPING CENTER (WMC)
PRODUCER: WOOLPERT LLP
PRODUCTION_SYSTEM: INTERGRAPH ISPM, ISIR
COMPRESSION: UNDEFINED
STANDARD_VERSION: 1996 12
METADATA_DATE: 2001 9 17
DATA_FILE_SIZE: 41296434
BYTE_COUNT: 5406
