FILENAME: O4810647.NES.1164397.tif
QUADRANGLE_NAME: SPRING CREEK SW
QUADRANT: NE
WEST_LONGITUDE: -106 11 15.00000
EAST_LONGITUDE: -106 7 30.00000
NORTH_LATITUDE: 48 22 30.00000
SOUTH_LATITUDE: 48 18 45.00000
PRODUCTION_DATE: 2001 9 15
RASTER_ORDER: LEFT_RIGHT/TOP_BOTTOM
BAND_ORGANIZATION: SINGLE FILE
BAND_CONTENT: BLACK&WHITE
BAND_CONTENT: UNDEFINED
BAND_CONTENT: UNDEFINED
BITS_PER_PIXEL: 8
SAMPLES_AND_LINES: 5389 7631
HORIZONTAL_DATUM: NAD83
HORIZONTAL_COORDINATE_SYSTEM: UTM
COORDINATE_ZONE: 13
HORIZONTAL_UNITS: meters
HORIZONTAL_RESOLUTION: 1.00000
SECONDARY_HORIZONTAL_DATUM: NAD27
XY_ORIGIN: 411607.00000 5358971.00000
SECONDARY_XY_ORIGIN: 411646.95700 5358748.75800
NATION: US
STATE: MT
NW_QUAD_CORNER_XY: 412062.44100 5358662.52400
NE_QUAD_CORNER_XY: 416690.66300 5358592.69800
SE_QUAD_CORNERY_XY: 416588.73800 5351645.82000
SW_QUAD_CORNER_XY: 411954.85300 5351715.66300
SECONDARY_NW_QUAD_XY: 412059.65300 5358443.59100
SECONDARY_NE_QUAD_XY: 416688.02100 5358373.76300
SECONDARY_SE_QUAD_XY: 416586.09600 5351426.89500
SECONDARY_SW_QUAD_XY: 411952.06400 5351496.74100
RMSE_XY: 5.12000
IMAGE_SOURCE: BLACK AND WHITE FILM
SOURCE_IMAGE_ID: NAPP 9095-190
SOURCE_IMAGE_DATE: 1996 7 9
SOURCE_DEM_DATE: 1998 0 0
AGENCY: WESTERN MAPPING CENTER (WMC)
PRODUCER: WOOLPERT LLP
PRODUCTION_SYSTEM: INTERGRAPH ISPM, ISIR
COMPRESSION: UNDEFINED
STANDARD_VERSION: 1996 12
METADATA_DATE: 2001 9 17
DATA_FILE_SIZE: 41128848
BYTE_COUNT: 5389
