FILENAME: O4810648.SES.1164411.tif
QUADRANGLE_NAME: HAUCK COULEE
QUADRANT: SE
WEST_LONGITUDE: -106 3 45.00000
EAST_LONGITUDE: -106 0 0.00000
NORTH_LATITUDE: 48 18 45.00000
SOUTH_LATITUDE: 48 15 0.00000
PRODUCTION_DATE: 2001 9 15
RASTER_ORDER: LEFT_RIGHT/TOP_BOTTOM
BAND_ORGANIZATION: SINGLE FILE
BAND_CONTENT: BLACK&WHITE
BAND_CONTENT: UNDEFINED
BAND_CONTENT: UNDEFINED
BITS_PER_PIXEL: 8
SAMPLES_AND_LINES: 5384 7623
HORIZONTAL_DATUM: NAD83
HORIZONTAL_COORDINATE_SYSTEM: UTM
COORDINATE_ZONE: 13
HORIZONTAL_UNITS: meters
HORIZONTAL_RESOLUTION: 1.00000
SECONDARY_HORIZONTAL_DATUM: NAD27
XY_ORIGIN: 420778.00000 5351888.00000
SECONDARY_XY_ORIGIN: 420817.98400 5351665.98800
NATION: US
STATE: MT
NW_QUAD_CORNER_XY: 421222.63400 5351579.75200
NE_QUAD_CORNER_XY: 425856.54200 5351517.46000
SE_QUAD_CORNERY_XY: 425766.03300 5344570.62300
SW_QUAD_CORNER_XY: 421126.46700 5344632.93000
SECONDARY_NW_QUAD_XY: 421220.13900 5351360.82500
SECONDARY_NE_QUAD_XY: 425854.19300 5351298.53100
SECONDARY_SE_QUAD_XY: 425763.68400 5344351.70500
SECONDARY_SW_QUAD_XY: 421123.97200 5344414.01400
RMSE_XY: 3.77000
IMAGE_SOURCE: BLACK AND WHITE FILM
SOURCE_IMAGE_ID: NAPP 9122-148
SOURCE_IMAGE_DATE: 1996 9 11
SOURCE_DEM_DATE: 1998 0 0
AGENCY: WESTERN MAPPING CENTER (WMC)
PRODUCER: WOOLPERT LLP
PRODUCTION_SYSTEM: INTERGRAPH ISPM, ISIR
COMPRESSION: UNDEFINED
STANDARD_VERSION: 1996 12
METADATA_DATE: 2001 9 17
DATA_FILE_SIZE: 41047616
BYTE_COUNT: 5384
