FILENAME: O4810649.NWS.1137168.tif
QUADRANGLE_NAME: BILLICK COULEE
QUADRANT: NW
WEST_LONGITUDE: -107 0 0.00000
EAST_LONGITUDE: -106 56 15.00000
NORTH_LATITUDE: 48 15 0.00000
SOUTH_LATITUDE: 48 11 15.00000
PRODUCTION_DATE: 2001 3 1
RASTER_ORDER: LEFT_RIGHT/TOP_BOTTOM
BAND_ORGANIZATION: SINGLE FILE
BAND_CONTENT: BLACK&WHITE
BAND_CONTENT: UNDEFINED
BAND_CONTENT: UNDEFINED
BITS_PER_PIXEL: 8
SAMPLES_AND_LINES: 5477 7679
HORIZONTAL_DATUM: NAD83
HORIZONTAL_COORDINATE_SYSTEM: UTM
COORDINATE_ZONE: 13
HORIZONTAL_UNITS: meters
HORIZONTAL_RESOLUTION: 1.00000
SECONDARY_HORIZONTAL_DATUM: NAD27
XY_ORIGIN: 351002.00000 5346329.00000
SECONDARY_XY_ORIGIN: 351043.57100 5346107.76700
NATION: US
STATE: MT
NW_QUAD_CORNER_XY: 351534.60000 5346020.85700
NE_QUAD_CORNER_XY: 356173.94200 5345901.87900
SE_QUAD_CORNERY_XY: 355998.71300 5338955.43900
SW_QUAD_CORNER_XY: 351353.71400 5339074.44600
SECONDARY_NW_QUAD_XY: 351529.90400 5345801.98500
SECONDARY_NE_QUAD_XY: 356169.39300 5345683.00300
SECONDARY_SE_QUAD_XY: 355994.16300 5338736.57500
SECONDARY_SW_QUAD_XY: 351349.01800 5338855.58600
RMSE_XY: 2.08000
IMAGE_SOURCE: BLACK AND WHITE FILM
SOURCE_IMAGE_ID: NAPP 9101-037
SOURCE_IMAGE_DATE: 1996 7 15
SOURCE_DEM_DATE: 1998 0 0
AGENCY: WESTERN MAPPING CENTER (WMC)
PRODUCER: WOOLPERT LLP
PRODUCTION_SYSTEM: INTERGRAPH ISPM, ISIR
COMPRESSION: UNDEFINED
STANDARD_VERSION: 1996 12
METADATA_DATE: 2001 3 1
DATA_FILE_SIZE: 42063360
BYTE_COUNT: 5477
