FILENAME: O4810650.NWS.1137200.tif
QUADRANGLE_NAME: ENGSTROM RANCH
QUADRANT: NW
WEST_LONGITUDE: -106 52 30.00000
EAST_LONGITUDE: -106 48 45.00000
NORTH_LATITUDE: 48 15 0.00000
SOUTH_LATITUDE: 48 11 15.00000
PRODUCTION_DATE: 2001 3 21
RASTER_ORDER: LEFT_RIGHT/TOP_BOTTOM
BAND_ORGANIZATION: SINGLE FILE
BAND_CONTENT: BLACK&WHITE
BAND_CONTENT: UNDEFINED
BAND_CONTENT: UNDEFINED
BITS_PER_PIXEL: 8
SAMPLES_AND_LINES: 5466 7672
HORIZONTAL_DATUM: NAD83
HORIZONTAL_COORDINATE_SYSTEM: UTM
COORDINATE_ZONE: 13
HORIZONTAL_UNITS: meters
HORIZONTAL_RESOLUTION: 1.00000
SECONDARY_HORIZONTAL_DATUM: NAD27
XY_ORIGIN: 360292.00000 5346095.00000
SECONDARY_XY_ORIGIN: 360333.24800 5345873.43100
NATION: US
STATE: MT
NW_QUAD_CORNER_XY: 360813.30400 5345786.68000
NE_QUAD_CORNER_XY: 365452.68400 5345675.26000
SE_QUAD_CORNERY_XY: 365288.76500 5338728.76500
SW_QUAD_CORNER_XY: 360643.73000 5338840.21200
SECONDARY_NW_QUAD_XY: 360808.90100 5345567.80000
SECONDARY_NE_QUAD_XY: 365448.42700 5345456.37700
SECONDARY_SE_QUAD_XY: 365284.51000 5338509.89400
SECONDARY_SW_QUAD_XY: 360639.32700 5338621.34400
RMSE_XY: 2.13000
IMAGE_SOURCE: BLACK AND WHITE FILM
SOURCE_IMAGE_ID: NAPP 9085-031
SOURCE_IMAGE_DATE: 1996 6 13
SOURCE_DEM_DATE: 1998 0 0
AGENCY: WESTERN MAPPING CENTER (WMC)
PRODUCER: WOOLPERT LLP
PRODUCTION_SYSTEM: INTERGRAPH ISPM, ISIR
COMPRESSION: UNDEFINED
STANDARD_VERSION: 1996 12
METADATA_DATE: 2001 3 21
DATA_FILE_SIZE: 41940618
BYTE_COUNT: 5466
