FILENAME: O4810654.SWS.1137238.tif
QUADRANGLE_NAME: NASHUA
QUADRANT: SW
WEST_LONGITUDE: -106 22 30.00000
EAST_LONGITUDE: -106 18 45.00000
NORTH_LATITUDE: 48 11 15.00000
SOUTH_LATITUDE: 48 7 30.00000
PRODUCTION_DATE: 2001 3 23
RASTER_ORDER: LEFT_RIGHT/TOP_BOTTOM
BAND_ORGANIZATION: SINGLE FILE
BAND_CONTENT: BLACK&WHITE
BAND_CONTENT: UNDEFINED
BAND_CONTENT: UNDEFINED
BITS_PER_PIXEL: 8
SAMPLES_AND_LINES: 5424 7642
HORIZONTAL_DATUM: NAD83
HORIZONTAL_COORDINATE_SYSTEM: UTM
COORDINATE_ZONE: 13
HORIZONTAL_UNITS: meters
HORIZONTAL_RESOLUTION: 1.00000
SECONDARY_HORIZONTAL_DATUM: NAD27
XY_ORIGIN: 397331.00000 5338363.00000
SECONDARY_XY_ORIGIN: 397371.40600 5338140.96500
NATION: US
STATE: MT
NW_QUAD_CORNER_XY: 397804.47500 5338054.46300
NE_QUAD_CORNER_XY: 402449.63400 5337973.25000
SE_QUAD_CORNERY_XY: 402331.06800 5331026.64300
SW_QUAD_CORNER_XY: 397680.26000 5331107.87600
SECONDARY_NW_QUAD_XY: 397801.24600 5337835.57100
SECONDARY_NE_QUAD_XY: 402446.55300 5337754.35500
SECONDARY_SE_QUAD_XY: 402327.98600 5330807.76100
SECONDARY_SW_QUAD_XY: 397677.03200 5330888.99600
RMSE_XY: 2.29000
IMAGE_SOURCE: BLACK AND WHITE FILM
SOURCE_IMAGE_ID: NAPP 9109-246
SOURCE_IMAGE_DATE: 1996 8 11
SOURCE_DEM_DATE: 1998 0 0
AGENCY: WESTERN MAPPING CENTER (WMC)
PRODUCER: WOOLPERT LLP
PRODUCTION_SYSTEM: INTERGRAPH ISPM, ISIR
COMPRESSION: UNDEFINED
STANDARD_VERSION: 1996 12
METADATA_DATE: 2001 3 23
DATA_FILE_SIZE: 41455632
BYTE_COUNT: 5424
