FILENAME: O4810654.NES.1137235.tif
QUADRANGLE_NAME: NASHUA
QUADRANT: NE
WEST_LONGITUDE: -106 18 45.00000
EAST_LONGITUDE: -106 15 0.00000
NORTH_LATITUDE: 48 15 0.00000
SOUTH_LATITUDE: 48 11 15.00000
PRODUCTION_DATE: 2001 3 23
RASTER_ORDER: LEFT_RIGHT/TOP_BOTTOM
BAND_ORGANIZATION: SINGLE FILE
BAND_CONTENT: BLACK&WHITE
BAND_CONTENT: UNDEFINED
BAND_CONTENT: UNDEFINED
BITS_PER_PIXEL: 8
SAMPLES_AND_LINES: 5412 7639
HORIZONTAL_DATUM: NAD83
HORIZONTAL_COORDINATE_SYSTEM: UTM
COORDINATE_ZONE: 13
HORIZONTAL_UNITS: meters
HORIZONTAL_RESOLUTION: 1.00000
SECONDARY_HORIZONTAL_DATUM: NAD27
XY_ORIGIN: 402101.00000 5345229.00000
SECONDARY_XY_ORIGIN: 402141.22100 5345006.86000
NATION: US
STATE: MT
NW_QUAD_CORNER_XY: 402568.31800 5344919.92900
NE_QUAD_CORNER_XY: 407207.83700 5344842.51400
SE_QUAD_CORNERY_XY: 407094.80700 5337895.81600
SW_QUAD_CORNER_XY: 402449.63400 5337973.25000
SECONDARY_NW_QUAD_XY: 402565.23600 5344701.02200
SECONDARY_NE_QUAD_XY: 407204.90200 5344623.60400
SECONDARY_SE_QUAD_XY: 407091.87200 5337676.91800
SECONDARY_SW_QUAD_XY: 402446.55300 5337754.35500
RMSE_XY: 1.47000
IMAGE_SOURCE: BLACK AND WHITE FILM
SOURCE_IMAGE_ID: NAPP 9122-061
SOURCE_IMAGE_DATE: 1996 9 11
SOURCE_DEM_DATE: 1998 0 0
AGENCY: WESTERN MAPPING CENTER (WMC)
PRODUCER: WOOLPERT LLP
PRODUCTION_SYSTEM: INTERGRAPH ISPM, ISIR
COMPRESSION: UNDEFINED
STANDARD_VERSION: 1996 12
METADATA_DATE: 2001 3 23
DATA_FILE_SIZE: 41347680
BYTE_COUNT: 5412
