FILENAME: O4810655.NES.1139215.tif
QUADRANGLE_NAME: MILK RIVER COULEE
QUADRANT: NE
WEST_LONGITUDE: -106 11 15.00000
EAST_LONGITUDE: -106 7 30.00000
NORTH_LATITUDE: 48 15 0.00000
SOUTH_LATITUDE: 48 11 15.00000
PRODUCTION_DATE: 2001 3 30
RASTER_ORDER: LEFT_RIGHT/TOP_BOTTOM
BAND_ORGANIZATION: SINGLE FILE
BAND_CONTENT: BLACK&WHITE
BAND_CONTENT: UNDEFINED
BAND_CONTENT: UNDEFINED
BITS_PER_PIXEL: 8
SAMPLES_AND_LINES: 5400 7630
HORIZONTAL_DATUM: NAD83
HORIZONTAL_COORDINATE_SYSTEM: UTM
COORDINATE_ZONE: 13
HORIZONTAL_UNITS: meters
HORIZONTAL_RESOLUTION: 1.00000
SECONDARY_HORIZONTAL_DATUM: NAD27
XY_ORIGIN: 411392.00000 5345077.00000
SECONDARY_XY_ORIGIN: 411432.10400 5344854.96200
NATION: US
STATE: MT
NW_QUAD_CORNER_XY: 411847.36900 5344768.87500
NE_QUAD_CORNER_XY: 416486.91300 5344699.01400
SE_QUAD_CORNERY_XY: 416385.18800 5337752.28100
SW_QUAD_CORNER_XY: 411739.99200 5337822.16000
SECONDARY_NW_QUAD_XY: 411844.58100 5344549.96300
SECONDARY_NE_QUAD_XY: 416484.27100 5344480.10000
SECONDARY_SE_QUAD_XY: 416382.54600 5337533.37900
SECONDARY_SW_QUAD_XY: 411737.20300 5337603.26000
RMSE_XY: 1.56000
IMAGE_SOURCE: BLACK AND WHITE FILM
SOURCE_IMAGE_ID: NAPP 9095-186
SOURCE_IMAGE_DATE: 1996 7 9
SOURCE_DEM_DATE: 1998 0 0
AGENCY: WESTERN MAPPING CENTER (WMC)
PRODUCER: WOOLPERT LLP
PRODUCTION_SYSTEM: INTERGRAPH ISPM, ISIR
COMPRESSION: UNDEFINED
STANDARD_VERSION: 1996 12
METADATA_DATE: 2001 3 30
DATA_FILE_SIZE: 41207400
BYTE_COUNT: 5400
