FILENAME: O4810657.SES.1137173.tif
QUADRANGLE_NAME: MILLER COULEE WEST
QUADRANT: SE
WEST_LONGITUDE: -106 56 15.00000
EAST_LONGITUDE: -106 52 30.00000
NORTH_LATITUDE: 48 3 45.00000
SOUTH_LATITUDE: 48 0 0.00000
PRODUCTION_DATE: 2001 3 1
RASTER_ORDER: LEFT_RIGHT/TOP_BOTTOM
BAND_ORGANIZATION: SINGLE FILE
BAND_CONTENT: BLACK&WHITE
BAND_CONTENT: UNDEFINED
BAND_CONTENT: UNDEFINED
BITS_PER_PIXEL: 8
SAMPLES_AND_LINES: 5489 7675
HORIZONTAL_DATUM: NAD83
HORIZONTAL_COORDINATE_SYSTEM: UTM
COORDINATE_ZONE: 13
HORIZONTAL_UNITS: meters
HORIZONTAL_RESOLUTION: 1.00000
SECONDARY_HORIZONTAL_DATUM: NAD27
XY_ORIGIN: 355122.00000 5325371.00000
SECONDARY_XY_ORIGIN: 355163.77000 5325149.71000
NATION: US
STATE: MT
NW_QUAD_CORNER_XY: 355648.77100 5325062.76100
NE_QUAD_CORNER_XY: 360305.08300 5324947.47900
SE_QUAD_CORNERY_XY: 360136.01100 5318001.21500
SW_QUAD_CORNER_XY: 355474.05900 5318116.52300
SECONDARY_NW_QUAD_XY: 355644.22200 5324843.92300
SECONDARY_NE_QUAD_XY: 360300.68100 5324728.63800
SECONDARY_SE_QUAD_XY: 360131.60900 5317782.38800
SECONDARY_SW_QUAD_XY: 355469.51100 5317897.69900
RMSE_XY: 1.94000
IMAGE_SOURCE: BLACK AND WHITE FILM
SOURCE_IMAGE_ID: NAPP 9085-090
SOURCE_IMAGE_DATE: 1996 6 13
SOURCE_DEM_DATE: 1995 0 0
AGENCY: WESTERN MAPPING CENTER (WMC)
PRODUCER: WOOLPERT LLP
PRODUCTION_SYSTEM: INTERGRAPH ISPM, ISIR
COMPRESSION: UNDEFINED
STANDARD_VERSION: 1996 12
METADATA_DATE: 2001 3 1
DATA_FILE_SIZE: 42133564
BYTE_COUNT: 5489
