FILENAME: O4810660.NWS.1137224.tif
QUADRANGLE_NAME: WHEELER
QUADRANT: NW
WEST_LONGITUDE: -106 37 30.00000
EAST_LONGITUDE: -106 33 45.00000
NORTH_LATITUDE: 48 7 30.00000
SOUTH_LATITUDE: 48 3 45.00000
PRODUCTION_DATE: 2001 3 23
RASTER_ORDER: LEFT_RIGHT/TOP_BOTTOM
BAND_ORGANIZATION: SINGLE FILE
BAND_CONTENT: BLACK&WHITE
BAND_CONTENT: UNDEFINED
BAND_CONTENT: UNDEFINED
BITS_PER_PIXEL: 8
SAMPLES_AND_LINES: 5453 7657
HORIZONTAL_DATUM: NAD83
HORIZONTAL_COORDINATE_SYSTEM: UTM
COORDINATE_ZONE: 13
HORIZONTAL_UNITS: meters
HORIZONTAL_RESOLUTION: 1.00000
SECONDARY_HORIZONTAL_DATUM: NAD27
XY_ORIGIN: 378580.00000 5331779.00000
SECONDARY_XY_ORIGIN: 378620.94100 5331557.14300
NATION: US
STATE: MT
NW_QUAD_CORNER_XY: 379077.16700 5331470.60200
NE_QUAD_CORNER_XY: 383727.91900 5331374.25000
SE_QUAD_CORNERY_XY: 383586.89900 5324427.79600
SW_QUAD_CORNER_XY: 378930.50400 5324524.17000
SECONDARY_NW_QUAD_XY: 379073.35200 5331251.73300
SECONDARY_NE_QUAD_XY: 383724.25000 5331155.37900
SECONDARY_SE_QUAD_XY: 383583.23000 5324208.93900
SECONDARY_SW_QUAD_XY: 378926.68900 5324305.31600
RMSE_XY: 1.83000
IMAGE_SOURCE: BLACK AND WHITE FILM
SOURCE_IMAGE_ID: NAPP 9110-170
SOURCE_IMAGE_DATE: 1996 8 11
SOURCE_DEM_DATE: 1999 0 0
AGENCY: WESTERN MAPPING CENTER (WMC)
PRODUCER: WOOLPERT LLP
PRODUCTION_SYSTEM: INTERGRAPH ISPM, ISIR
COMPRESSION: UNDEFINED
STANDARD_VERSION: 1996 12
METADATA_DATE: 2001 3 23
DATA_FILE_SIZE: 41759074
BYTE_COUNT: 5453
