FILENAME: O4810660.NES.1137223.tif
QUADRANGLE_NAME: WHEELER
QUADRANT: NE
WEST_LONGITUDE: -106 33 45.00000
EAST_LONGITUDE: -106 30 0.00000
NORTH_LATITUDE: 48 7 30.00000
SOUTH_LATITUDE: 48 3 45.00000
PRODUCTION_DATE: 2001 3 23
RASTER_ORDER: LEFT_RIGHT/TOP_BOTTOM
BAND_ORGANIZATION: SINGLE FILE
BAND_CONTENT: BLACK&WHITE
BAND_CONTENT: UNDEFINED
BAND_CONTENT: UNDEFINED
BITS_PER_PIXEL: 8
SAMPLES_AND_LINES: 5447 7653
HORIZONTAL_DATUM: NAD83
HORIZONTAL_COORDINATE_SYSTEM: UTM
COORDINATE_ZONE: 13
HORIZONTAL_UNITS: meters
HORIZONTAL_RESOLUTION: 1.00000
SECONDARY_HORIZONTAL_DATUM: NAD27
XY_ORIGIN: 383237.00000 5331683.00000
SECONDARY_XY_ORIGIN: 383277.82500 5331461.08200
NATION: US
STATE: MT
NW_QUAD_CORNER_XY: 383727.91900 5331374.25000
NE_QUAD_CORNER_XY: 388378.68500 5331281.67900
SE_QUAD_CORNERY_XY: 388243.30800 5324335.20300
SW_QUAD_CORNER_XY: 383586.89900 5324427.79600
SECONDARY_NW_QUAD_XY: 383724.25000 5331155.37900
SECONDARY_NE_QUAD_XY: 388375.16300 5331062.80500
SECONDARY_SE_QUAD_XY: 388239.78700 5324116.34300
SECONDARY_SW_QUAD_XY: 383583.23000 5324208.93900
RMSE_XY: 1.91000
IMAGE_SOURCE: BLACK AND WHITE FILM
SOURCE_IMAGE_ID: NAPP 9110-109
SOURCE_IMAGE_DATE: 1996 8 11
SOURCE_IMAGE_ID: NAPP 9110-110
SOURCE_IMAGE_DATE: 1996 8 11
SOURCE_DEM_DATE: 1999 0 0
AGENCY: WESTERN MAPPING CENTER (WMC)
PRODUCER: WOOLPERT LLP
PRODUCTION_SYSTEM: INTERGRAPH ISPM, ISIR
COMPRESSION: UNDEFINED
STANDARD_VERSION: 1996 12
METADATA_DATE: 2001 4 12
DATA_FILE_SIZE: 41691338
BYTE_COUNT: 5447
