FILENAME: O4810661.NWS.1137232.tif
QUADRANGLE_NAME: FORT PECK
QUADRANT: NW
WEST_LONGITUDE: -106 30 0.00000
EAST_LONGITUDE: -106 26 15.00000
NORTH_LATITUDE: 48 7 30.00000
SOUTH_LATITUDE: 48 3 45.00000
PRODUCTION_DATE: 2001 3 23
RASTER_ORDER: LEFT_RIGHT/TOP_BOTTOM
BAND_ORGANIZATION: SINGLE FILE
BAND_CONTENT: BLACK&WHITE
BAND_CONTENT: UNDEFINED
BAND_CONTENT: UNDEFINED
BITS_PER_PIXEL: 8
SAMPLES_AND_LINES: 5442 7649
HORIZONTAL_DATUM: NAD83
HORIZONTAL_COORDINATE_SYSTEM: UTM
COORDINATE_ZONE: 13
HORIZONTAL_UNITS: meters
HORIZONTAL_RESOLUTION: 1.00000
SECONDARY_HORIZONTAL_DATUM: NAD27
XY_ORIGIN: 387893.00000 5331590.00000
SECONDARY_XY_ORIGIN: 387933.70900 5331368.02200
NATION: US
STATE: MT
NW_QUAD_CORNER_XY: 388378.68500 5331281.67900
NE_QUAD_CORNER_XY: 393029.46600 5331192.88700
SE_QUAD_CORNERY_XY: 392899.73200 5324246.39100
SW_QUAD_CORNER_XY: 388243.30800 5324335.20300
SECONDARY_NW_QUAD_XY: 388375.16300 5331062.80500
SECONDARY_NE_QUAD_XY: 393026.09100 5330974.01000
SECONDARY_SE_QUAD_XY: 392896.35700 5324027.52800
SECONDARY_SW_QUAD_XY: 388239.78700 5324116.34300
RMSE_XY: 1.65000
IMAGE_SOURCE: BLACK AND WHITE FILM
SOURCE_IMAGE_ID: NAPP 9109-124
SOURCE_IMAGE_DATE: 1996 8 11
SOURCE_DEM_DATE: 1999 0 0
AGENCY: WESTERN MAPPING CENTER (WMC)
PRODUCER: WOOLPERT LLP
PRODUCTION_SYSTEM: INTERGRAPH ISPM, ISIR
COMPRESSION: UNDEFINED
STANDARD_VERSION: 1996 12
METADATA_DATE: 2001 3 23
DATA_FILE_SIZE: 41631300
BYTE_COUNT: 5442
