FILENAME: O4810501.SES.1165525.tif
QUADRANGLE_NAME: FLAHERTY COULEE
QUADRANT: SE
WEST_LONGITUDE: -105 56 15.00000
EAST_LONGITUDE: -105 52 30.00000
NORTH_LATITUDE: 48 56 15.00000
SOUTH_LATITUDE: 48 52 30.00000
PRODUCTION_DATE: 2001 9 15
RASTER_ORDER: LEFT_RIGHT/TOP_BOTTOM
BAND_ORGANIZATION: SINGLE FILE
BAND_CONTENT: BLACK&WHITE
BAND_CONTENT: UNDEFINED
BAND_CONTENT: UNDEFINED
BITS_PER_PIXEL: 8
SAMPLES_AND_LINES: 5315 7616
HORIZONTAL_DATUM: NAD83
HORIZONTAL_COORDINATE_SYSTEM: UTM
COORDINATE_ZONE: 13
HORIZONTAL_UNITS: meters
HORIZONTAL_RESOLUTION: 1.00000
SECONDARY_HORIZONTAL_DATUM: NAD27
XY_ORIGIN: 430911.00000 5421240.00000
SECONDARY_XY_ORIGIN: 430950.63100 5421017.66900
NATION: US
STATE: MT
NW_QUAD_CORNER_XY: 431343.54200 5420931.52200
NE_QUAD_CORNER_XY: 435920.58900 5420876.93200
SE_QUAD_CORNERY_XY: 435840.62200 5413929.32600
SW_QUAD_CORNER_XY: 431257.86200 5413983.93300
SECONDARY_NW_QUAD_XY: 431341.34000 5420712.52700
SECONDARY_NE_QUAD_XY: 435918.53400 5420657.93500
SECONDARY_SE_QUAD_XY: 435838.56600 5413710.33200
SECONDARY_SW_QUAD_XY: 431255.65900 5413764.94000
RMSE_XY: 2.88000
IMAGE_SOURCE: BLACK AND WHITE FILM
SOURCE_IMAGE_ID: NAPP 9095-128
SOURCE_IMAGE_DATE: 1996 7 9
SOURCE_DEM_DATE: 1998 0 0
AGENCY: WESTERN MAPPING CENTER (WMC)
PRODUCER: WOOLPERT LLP
PRODUCTION_SYSTEM: INTERGRAPH ISPM, ISIR
COMPRESSION: UNDEFINED
STANDARD_VERSION: 1996 12
METADATA_DATE: 2001 9 17
DATA_FILE_SIZE: 40484355
BYTE_COUNT: 5315
