FILENAME: O4810501.NES.1165523.tif
QUADRANGLE_NAME: FLAHERTY COULEE
QUADRANT: NE
WEST_LONGITUDE: -105 56 15.00000
EAST_LONGITUDE: -105 52 30.00000
NORTH_LATITUDE: 49 0 0.00000
SOUTH_LATITUDE: 48 56 15.00000
PRODUCTION_DATE: 2001 9 15
RASTER_ORDER: LEFT_RIGHT/TOP_BOTTOM
BAND_ORGANIZATION: SINGLE FILE
BAND_CONTENT: BLACK&WHITE
BAND_CONTENT: UNDEFINED
BAND_CONTENT: UNDEFINED
BITS_PER_PIXEL: 8
SAMPLES_AND_LINES: 5310 7617
HORIZONTAL_DATUM: NAD83
HORIZONTAL_COORDINATE_SYSTEM: UTM
COORDINATE_ZONE: 13
HORIZONTAL_UNITS: meters
HORIZONTAL_RESOLUTION: 1.00000
SECONDARY_HORIZONTAL_DATUM: NAD27
XY_ORIGIN: 430996.00000 5428188.00000
SECONDARY_XY_ORIGIN: 431035.64600 5427965.69100
NATION: US
NATION: CA
STATE: MT
NW_QUAD_CORNER_XY: 431429.30500 5427879.18500
NE_QUAD_CORNER_XY: 436000.63400 5427824.61100
SE_QUAD_CORNERY_XY: 435920.58900 5420876.93200
SW_QUAD_CORNER_XY: 431343.54200 5420931.52200
SECONDARY_NW_QUAD_XY: 431427.10300 5427660.18900
SECONDARY_NE_QUAD_XY: 435998.57900 5427605.61300
SECONDARY_SE_QUAD_XY: 435918.53400 5420657.93500
SECONDARY_SW_QUAD_XY: 431341.34000 5420712.52700
RMSE_XY: 3.10000
IMAGE_SOURCE: BLACK AND WHITE FILM
SOURCE_IMAGE_ID: NAPP 9095-130
SOURCE_IMAGE_DATE: 1996 7 9
SOURCE_DEM_DATE: 1998 0 0
AGENCY: WESTERN MAPPING CENTER (WMC)
PRODUCER: WOOLPERT LLP
PRODUCTION_SYSTEM: INTERGRAPH ISPM, ISIR
COMPRESSION: UNDEFINED
STANDARD_VERSION: 1996 12
METADATA_DATE: 2001 9 17
DATA_FILE_SIZE: 40451580
BYTE_COUNT: 5310
