FILENAME: O4810503.NES.1165644.tif
QUADRANGLE_NAME: FOUR BUTTES NW
QUADRANT: NE
WEST_LONGITUDE: -105 41 15.00000
EAST_LONGITUDE: -105 37 30.00000
NORTH_LATITUDE: 49 0 0.00000
SOUTH_LATITUDE: 48 56 15.00000
PRODUCTION_DATE: 2001 9 15
RASTER_ORDER: LEFT_RIGHT/TOP_BOTTOM
BAND_ORGANIZATION: SINGLE FILE
BAND_CONTENT: BLACK&WHITE
BAND_CONTENT: UNDEFINED
BAND_CONTENT: UNDEFINED
BITS_PER_PIXEL: 8
SAMPLES_AND_LINES: 5287 7601
HORIZONTAL_DATUM: NAD83
HORIZONTAL_COORDINATE_SYSTEM: UTM
COORDINATE_ZONE: 13
HORIZONTAL_UNITS: meters
HORIZONTAL_RESOLUTION: 1.00000
SECONDARY_HORIZONTAL_DATUM: NAD27
XY_ORIGIN: 449305.00000 5427992.00000
SECONDARY_XY_ORIGIN: 449344.51500 5427769.98000
NATION: US
NATION: CA
STATE: MT
NW_QUAD_CORNER_XY: 449714.68100 5427683.47500
NE_QUAD_CORNER_XY: 454286.04700 5427643.95700
SE_QUAD_CORNERY_XY: 454228.87400 5420696.22300
SW_QUAD_CORNER_XY: 449651.79000 5420735.75300
SECONDARY_NW_QUAD_XY: 449713.06600 5427464.47200
SECONDARY_NE_QUAD_XY: 454284.57900 5427424.95300
SECONDARY_SE_QUAD_XY: 454227.40600 5420477.22100
SECONDARY_SW_QUAD_XY: 449650.17500 5420516.75100
RMSE_XY: 4.63000
IMAGE_SOURCE: BLACK AND WHITE FILM
SOURCE_IMAGE_ID: NAPP 9105-135
SOURCE_IMAGE_DATE: 1996 8 1
SOURCE_DEM_DATE: 1998 0 0
AGENCY: WESTERN MAPPING CENTER (WMC)
PRODUCER: WOOLPERT LLP
PRODUCTION_SYSTEM: INTERGRAPH ISPM, ISIR
COMPRESSION: UNDEFINED
STANDARD_VERSION: 1996 12
METADATA_DATE: 2001 9 17
DATA_FILE_SIZE: 40191774
BYTE_COUNT: 5287
