FILENAME: O4810504.SWS.1165565.tif
QUADRANGLE_NAME: FOUR BUTTES NE
QUADRANT: SW
WEST_LONGITUDE: -105 37 30.00000
EAST_LONGITUDE: -105 33 45.00000
NORTH_LATITUDE: 48 56 15.00000
SOUTH_LATITUDE: 48 52 30.00000
PRODUCTION_DATE: 2001 9 15
RASTER_ORDER: LEFT_RIGHT/TOP_BOTTOM
BAND_ORGANIZATION: SINGLE FILE
BAND_CONTENT: BLACK&WHITE
BAND_CONTENT: UNDEFINED
BAND_CONTENT: UNDEFINED
BITS_PER_PIXEL: 8
SAMPLES_AND_LINES: 5286 7598
HORIZONTAL_DATUM: NAD83
HORIZONTAL_COORDINATE_SYSTEM: UTM
COORDINATE_ZONE: 13
HORIZONTAL_UNITS: meters
HORIZONTAL_RESOLUTION: 1.00000
SECONDARY_HORIZONTAL_DATUM: NAD27
XY_ORIGIN: 453825.00000 5421005.00000
SECONDARY_XY_ORIGIN: 453864.46900 5420783.01300
NATION: US
STATE: MT
NW_QUAD_CORNER_XY: 454228.87400 5420696.22300
NE_QUAD_CORNER_XY: 458805.96600 5420660.45800
SE_QUAD_CORNERY_XY: 458754.56000 5413712.78900
SW_QUAD_CORNER_XY: 454171.75600 5413748.56400
SECONDARY_NW_QUAD_XY: 454227.40600 5420477.22100
SECONDARY_NE_QUAD_XY: 458804.64400 5420441.45500
SECONDARY_SE_QUAD_XY: 458753.23800 5413493.78800
SECONDARY_SW_QUAD_XY: 454170.28800 5413529.56400
RMSE_XY: 3.22000
IMAGE_SOURCE: BLACK AND WHITE FILM
SOURCE_IMAGE_ID: NAPP 9094-094
SOURCE_IMAGE_DATE: 1996 7 9
SOURCE_DEM_DATE: 1998 0 0
AGENCY: WESTERN MAPPING CENTER (WMC)
PRODUCER: WOOLPERT LLP
PRODUCTION_SYSTEM: INTERGRAPH ISPM, ISIR
COMPRESSION: UNDEFINED
STANDARD_VERSION: 1996 12
METADATA_DATE: 2001 9 17
DATA_FILE_SIZE: 40168314
BYTE_COUNT: 5286
