FILENAME: O4810504.SES.1165564.tif
QUADRANGLE_NAME: FOUR BUTTES NE
QUADRANT: SE
WEST_LONGITUDE: -105 33 45.00000
EAST_LONGITUDE: -105 30 0.00000
NORTH_LATITUDE: 48 56 15.00000
SOUTH_LATITUDE: 48 52 30.00000
PRODUCTION_DATE: 2001 9 15
RASTER_ORDER: LEFT_RIGHT/TOP_BOTTOM
BAND_ORGANIZATION: SINGLE FILE
BAND_CONTENT: BLACK&WHITE
BAND_CONTENT: UNDEFINED
BAND_CONTENT: UNDEFINED
BITS_PER_PIXEL: 8
SAMPLES_AND_LINES: 5281 7594
HORIZONTAL_DATUM: NAD83
HORIZONTAL_COORDINATE_SYSTEM: UTM
COORDINATE_ZONE: 13
HORIZONTAL_UNITS: meters
HORIZONTAL_RESOLUTION: 1.00000
SECONDARY_HORIZONTAL_DATUM: NAD27
XY_ORIGIN: 458408.00000 5420969.00000
SECONDARY_XY_ORIGIN: 458447.43000 5420747.06900
NATION: US
STATE: MT
NW_QUAD_CORNER_XY: 458805.96600 5420660.45800
NE_QUAD_CORNER_XY: 463383.06400 5420628.45900
SE_QUAD_CORNERY_XY: 463337.37000 5413680.77900
SW_QUAD_CORNER_XY: 458754.56000 5413712.78900
SECONDARY_NW_QUAD_XY: 458804.64400 5420441.45500
SECONDARY_NE_QUAD_XY: 463381.88900 5420409.45400
SECONDARY_SE_QUAD_XY: 463336.19500 5413461.77700
SECONDARY_SW_QUAD_XY: 458753.23800 5413493.78800
RMSE_XY: 4.00000
IMAGE_SOURCE: BLACK AND WHITE FILM
SOURCE_IMAGE_ID: NAPP 9094-085
SOURCE_IMAGE_DATE: 1996 7 9
SOURCE_DEM_DATE: 1998 0 0
AGENCY: WESTERN MAPPING CENTER (WMC)
PRODUCER: WOOLPERT LLP
PRODUCTION_SYSTEM: INTERGRAPH ISPM, ISIR
COMPRESSION: UNDEFINED
STANDARD_VERSION: 1996 12
METADATA_DATE: 2001 9 17
DATA_FILE_SIZE: 40109195
BYTE_COUNT: 5281
