FILENAME: O4810505.SWS.1162609.tif
QUADRANGLE_NAME: SCOBEY NW
QUADRANT: SW
WEST_LONGITUDE: -105 30 0.00000
EAST_LONGITUDE: -105 26 15.00000
NORTH_LATITUDE: 48 56 15.00000
SOUTH_LATITUDE: 48 52 30.00000
PRODUCTION_DATE: 2001 9 23
RASTER_ORDER: LEFT_RIGHT/TOP_BOTTOM
BAND_ORGANIZATION: SINGLE FILE
BAND_CONTENT: BLACK&WHITE
BAND_CONTENT: UNDEFINED
BAND_CONTENT: UNDEFINED
BITS_PER_PIXEL: 8
SAMPLES_AND_LINES: 5275 7590
HORIZONTAL_DATUM: NAD83
HORIZONTAL_COORDINATE_SYSTEM: UTM
COORDINATE_ZONE: 13
HORIZONTAL_UNITS: meters
HORIZONTAL_RESOLUTION: 1.00000
SECONDARY_HORIZONTAL_DATUM: NAD27
XY_ORIGIN: 462991.00000 5420937.00000
SECONDARY_XY_ORIGIN: 463030.39000 5420715.12500
NATION: US
STATE: MT
NW_QUAD_CORNER_XY: 463383.06400 5420628.45900
NE_QUAD_CORNER_XY: 467960.16800 5420600.22400
SE_QUAD_CORNERY_XY: 467920.18600 5413652.53600
SW_QUAD_CORNER_XY: 463337.37000 5413680.77900
SECONDARY_NW_QUAD_XY: 463381.88900 5420409.45400
SECONDARY_NE_QUAD_XY: 467959.14000 5420381.21800
SECONDARY_SE_QUAD_XY: 467919.15800 5413433.53300
SECONDARY_SW_QUAD_XY: 463336.19500 5413461.77700
RMSE_XY: 4.93000
IMAGE_SOURCE: BLACK AND WHITE FILM
SOURCE_IMAGE_ID: NAPP 9093-133
SOURCE_IMAGE_DATE: 1996 7 9
SOURCE_DEM_DATE: 1998 0 0
AGENCY: WESTERN MAPPING CENTER (WMC)
PRODUCER: WOOLPERT LLP
PRODUCTION_SYSTEM: INTERGRAPH ISPM, ISIR
COMPRESSION: UNDEFINED
STANDARD_VERSION: 1996 12
METADATA_DATE: 2001 9 23
DATA_FILE_SIZE: 40042525
BYTE_COUNT: 5275
