FILENAME: O4810505.SES.1162608.tif
QUADRANGLE_NAME: SCOBEY NW
QUADRANT: SE
WEST_LONGITUDE: -105 26 15.00000
EAST_LONGITUDE: -105 22 30.00000
NORTH_LATITUDE: 48 56 15.00000
SOUTH_LATITUDE: 48 52 30.00000
PRODUCTION_DATE: 2001 9 23
RASTER_ORDER: LEFT_RIGHT/TOP_BOTTOM
BAND_ORGANIZATION: SINGLE FILE
BAND_CONTENT: BLACK&WHITE
BAND_CONTENT: UNDEFINED
BAND_CONTENT: UNDEFINED
BITS_PER_PIXEL: 8
SAMPLES_AND_LINES: 5269 7586
HORIZONTAL_DATUM: NAD83
HORIZONTAL_COORDINATE_SYSTEM: UTM
COORDINATE_ZONE: 13
HORIZONTAL_UNITS: meters
HORIZONTAL_RESOLUTION: 1.00000
SECONDARY_HORIZONTAL_DATUM: NAD27
XY_ORIGIN: 467574.00000 5420909.00000
SECONDARY_XY_ORIGIN: 467613.33200 5420687.09500
NATION: US
STATE: MT
NW_QUAD_CORNER_XY: 467960.16800 5420600.22400
NE_QUAD_CORNER_XY: 472537.27700 5420575.75400
SE_QUAD_CORNERY_XY: 472503.00700 5413628.05900
SW_QUAD_CORNER_XY: 467920.18600 5413652.53600
SECONDARY_NW_QUAD_XY: 467959.14000 5420381.21800
SECONDARY_NE_QUAD_XY: 472536.39600 5420356.74700
SECONDARY_SE_QUAD_XY: 472502.12600 5413409.05500
SECONDARY_SW_QUAD_XY: 467919.15800 5413433.53300
RMSE_XY: 5.65000
IMAGE_SOURCE: BLACK AND WHITE FILM
SOURCE_IMAGE_ID: NAPP 9093-124
SOURCE_IMAGE_DATE: 1996 7 9
SOURCE_DEM_DATE: 1998 0 0
AGENCY: WESTERN MAPPING CENTER (WMC)
PRODUCER: WOOLPERT LLP
PRODUCTION_SYSTEM: INTERGRAPH ISPM, ISIR
COMPRESSION: UNDEFINED
STANDARD_VERSION: 1996 12
METADATA_DATE: 2001 9 23
DATA_FILE_SIZE: 39975903
BYTE_COUNT: 5269
