FILENAME: O4810505.NWS.1162607.tif
QUADRANGLE_NAME: SCOBEY NW
QUADRANT: NW
WEST_LONGITUDE: -105 30 0.00000
EAST_LONGITUDE: -105 26 15.00000
NORTH_LATITUDE: 49 0 0.00000
SOUTH_LATITUDE: 48 56 15.00000
PRODUCTION_DATE: 2001 9 23
RASTER_ORDER: LEFT_RIGHT/TOP_BOTTOM
BAND_ORGANIZATION: SINGLE FILE
BAND_CONTENT: BLACK&WHITE
BAND_CONTENT: UNDEFINED
BAND_CONTENT: UNDEFINED
BITS_PER_PIXEL: 8
SAMPLES_AND_LINES: 5269 7590
HORIZONTAL_DATUM: NAD83
HORIZONTAL_COORDINATE_SYSTEM: UTM
COORDINATE_ZONE: 13
HORIZONTAL_UNITS: METERS
HORIZONTAL_RESOLUTION: 1.00000
SECONDARY_HORIZONTAL_DATUM: NAD27
XY_ORIGIN: 463037.00000 5427885.00000
SECONDARY_XY_ORIGIN: 463076.39000 5427663.14500
NATION: US
NATION: CA
STATE: MT
NW_QUAD_CORNER_XY: 463428.80200 5427576.21300
NE_QUAD_CORNER_XY: 468000.18800 5427547.98700
SE_QUAD_CORNERY_XY: 467960.16800 5420600.22400
SW_QUAD_CORNER_XY: 463383.06400 5420628.45900
SECONDARY_NW_QUAD_XY: 463427.62700 5427357.20700
SECONDARY_NE_QUAD_XY: 467999.16100 5427328.97900
SECONDARY_SE_QUAD_XY: 467959.14000 5420381.21800
SECONDARY_SW_QUAD_XY: 463381.88900 5420409.45400
RMSE_XY: 3.91000
IMAGE_SOURCE: BLACK AND WHITE FILM
SOURCE_IMAGE_ID: NAPP 9093-131
SOURCE_IMAGE_DATE: 1996 7 9
SOURCE_DEM_DATE: 1998 0 0
AGENCY: WESTERN MAPPING CENTER (WMC)
PRODUCER: WOOLPERT LLP
PRODUCTION_SYSTEM: INTERGRAPH ISPM, ISIR
COMPRESSION: UNDEFINED
STANDARD_VERSION: 1996 12
METADATA_DATE: 2001 10 1
DATA_FILE_SIZE: 39996979
BYTE_COUNT: 5269
