FILENAME: O4810506.SWS.1162597.tif
QUADRANGLE_NAME: SI MERRELL SLOUGH
QUADRANT: SW
WEST_LONGITUDE: -105 22 30.00000
EAST_LONGITUDE: -105 18 45.00000
NORTH_LATITUDE: 48 56 15.00000
SOUTH_LATITUDE: 48 52 30.00000
PRODUCTION_DATE: 2001 9 23
RASTER_ORDER: LEFT_RIGHT/TOP_BOTTOM
BAND_ORGANIZATION: SINGLE FILE
BAND_CONTENT: BLACK&WHITE
BAND_CONTENT: UNDEFINED
BAND_CONTENT: UNDEFINED
BITS_PER_PIXEL: 8
SAMPLES_AND_LINES: 5263 7582
HORIZONTAL_DATUM: NAD83
HORIZONTAL_COORDINATE_SYSTEM: UTM
COORDINATE_ZONE: 13
HORIZONTAL_UNITS: METERS
HORIZONTAL_RESOLUTION: 1.00000
SECONDARY_HORIZONTAL_DATUM: NAD27
XY_ORIGIN: 472157.00000 5420884.00000
SECONDARY_XY_ORIGIN: 472196.27300 5420662.05800
NATION: US
STATE: MT
NW_QUAD_CORNER_XY: 472537.27700 5420575.75400
NE_QUAD_CORNER_XY: 477114.39100 5420555.04800
SE_QUAD_CORNERY_XY: 477085.83200 5413607.34700
SW_QUAD_CORNER_XY: 472503.00700 5413628.05900
SECONDARY_NW_QUAD_XY: 472536.39600 5420356.74700
SECONDARY_NE_QUAD_XY: 477113.65700 5420336.04100
SECONDARY_SE_QUAD_XY: 477085.09800 5413388.34300
SECONDARY_SW_QUAD_XY: 472502.12600 5413409.05500
RMSE_XY: 4.04000
IMAGE_SOURCE: BLACK AND WHITE FILM
SOURCE_IMAGE_ID: NAPP 9116-130
SOURCE_IMAGE_DATE: 1996 8 27
SOURCE_DEM_DATE: 1998 0 0
AGENCY: WESTERN MAPPING CENTER (WMC)
PRODUCER: WOOLPERT LLP
PRODUCTION_SYSTEM: INTERGRAPH ISPM, ISIR
COMPRESSION: UNDEFINED
STANDARD_VERSION: 1996 12
METADATA_DATE: 2001 10 1
DATA_FILE_SIZE: 39909329
BYTE_COUNT: 5263
