FILENAME: O4810506.SES.1162596.tif
QUADRANGLE_NAME: SI MERRELL SLOUGH
QUADRANT: SE
WEST_LONGITUDE: -105 18 45.00000
EAST_LONGITUDE: -105 15 0.00000
NORTH_LATITUDE: 48 56 15.00000
SOUTH_LATITUDE: 48 52 30.00000
PRODUCTION_DATE: 2001 9 23
RASTER_ORDER: LEFT_RIGHT/TOP_BOTTOM
BAND_ORGANIZATION: SINGLE FILE
BAND_CONTENT: BLACK&WHITE
BAND_CONTENT: UNDEFINED
BAND_CONTENT: UNDEFINED
BITS_PER_PIXEL: 8
SAMPLES_AND_LINES: 5257 7579
HORIZONTAL_DATUM: NAD83
HORIZONTAL_COORDINATE_SYSTEM: UTM
COORDINATE_ZONE: 13
HORIZONTAL_UNITS: METERS
HORIZONTAL_RESOLUTION: 1.00000
SECONDARY_HORIZONTAL_DATUM: NAD27
XY_ORIGIN: 476740.00000 5420864.00000
SECONDARY_XY_ORIGIN: 476779.21400 5420642.02100
NATION: US
STATE: MT
NW_QUAD_CORNER_XY: 477114.39100 5420555.04800
NE_QUAD_CORNER_XY: 481691.50800 5420538.10700
SE_QUAD_CORNERY_XY: 481668.66200 5413590.40100
SW_QUAD_CORNER_XY: 477085.83200 5413607.34700
SECONDARY_NW_QUAD_XY: 477113.65700 5420336.04100
SECONDARY_NE_QUAD_XY: 481690.92100 5420319.10000
SECONDARY_SE_QUAD_XY: 481668.07400 5413371.39600
SECONDARY_SW_QUAD_XY: 477085.09800 5413388.34300
RMSE_XY: 3.49000
IMAGE_SOURCE: BLACK AND WHITE FILM
SOURCE_IMAGE_ID: NAPP 9116-139
SOURCE_IMAGE_DATE: 1996 8 27
SOURCE_DEM_DATE: 1998 0 0
AGENCY: WESTERN MAPPING CENTER (WMC)
PRODUCER: WOOLPERT LLP
PRODUCTION_SYSTEM: INTERGRAPH ISPM, ISIR
COMPRESSION: UNDEFINED
STANDARD_VERSION: 1996 12
METADATA_DATE: 2001 10 1
DATA_FILE_SIZE: 39848060
BYTE_COUNT: 5257
