FILENAME: O4810506.NES.1162594.tif
QUADRANGLE_NAME: SI MERRELL SLOUGH
QUADRANT: NE
WEST_LONGITUDE: -105 18 45.00000
EAST_LONGITUDE: -105 15 0.00000
NORTH_LATITUDE: 49 0 0.00000
SOUTH_LATITUDE: 48 56 15.00000
PRODUCTION_DATE: 2001 9 23
RASTER_ORDER: LEFT_RIGHT/TOP_BOTTOM
BAND_ORGANIZATION: SINGLE FILE
BAND_CONTENT: BLACK&WHITE
BAND_CONTENT: UNDEFINED
BAND_CONTENT: UNDEFINED
BITS_PER_PIXEL: 8
SAMPLES_AND_LINES: 5251 7578
HORIZONTAL_DATUM: NAD83
HORIZONTAL_COORDINATE_SYSTEM: UTM
COORDINATE_ZONE: 13
HORIZONTAL_UNITS: METERS
HORIZONTAL_RESOLUTION: 1.00000
SECONDARY_HORIZONTAL_DATUM: NAD27
XY_ORIGIN: 476769.00000 5427811.00000
SECONDARY_XY_ORIGIN: 476808.20500 5427589.00200
NATION: US
NATION: CA
STATE: MT
NW_QUAD_CORNER_XY: 477142.97700 5427502.82400
NE_QUAD_CORNER_XY: 481714.37700 5427485.88900
SE_QUAD_CORNERY_XY: 481691.50800 5420538.10700
SW_QUAD_CORNER_XY: 477114.39100 5420555.04800
SECONDARY_NW_QUAD_XY: 477142.24300 5427283.81600
SECONDARY_NE_QUAD_XY: 481713.79000 5427266.87900
SECONDARY_SE_QUAD_XY: 481690.92100 5420319.10000
SECONDARY_SW_QUAD_XY: 477113.65700 5420336.04100
RMSE_XY: 3.64000
IMAGE_SOURCE: BLACK AND WHITE FILM
SOURCE_IMAGE_ID: NAPP 9116-137
SOURCE_IMAGE_DATE: 1996 8 27
SOURCE_DEM_DATE: 1998 0 0
AGENCY: WESTERN MAPPING CENTER (WMC)
PRODUCER: WOOLPERT LLP
PRODUCTION_SYSTEM: INTERGRAPH ISPM, ISIR
COMPRESSION: UNDEFINED
STANDARD_VERSION: 1996 12
METADATA_DATE: 2001 10 1
DATA_FILE_SIZE: 39797329
BYTE_COUNT: 5251
