FILENAME: O4810507.SWS.1162585.tif
QUADRANGLE_NAME: WHITETAIL
QUADRANT: SW
WEST_LONGITUDE: -105 15 0.00000
EAST_LONGITUDE: -105 11 15.00000
NORTH_LATITUDE: 48 56 15.00000
SOUTH_LATITUDE: 48 52 30.00000
PRODUCTION_DATE: 2001 9 23
RASTER_ORDER: LEFT_RIGHT/TOP_BOTTOM
BAND_ORGANIZATION: SINGLE FILE
BAND_CONTENT: BLACK&WHITE
BAND_CONTENT: UNDEFINED
BAND_CONTENT: UNDEFINED
BITS_PER_PIXEL: 8
SAMPLES_AND_LINES: 5251 7575
HORIZONTAL_DATUM: NAD83
HORIZONTAL_COORDINATE_SYSTEM: UTM
COORDINATE_ZONE: 13
HORIZONTAL_UNITS: METERS
HORIZONTAL_RESOLUTION: 1.00000
SECONDARY_HORIZONTAL_DATUM: NAD27
XY_ORIGIN: 481323.00000 5420847.00000
SECONDARY_XY_ORIGIN: 481362.15600 5420624.99000
NATION: US
STATE: MT
NW_QUAD_CORNER_XY: 481691.50800 5420538.10700
NE_QUAD_CORNER_XY: 486268.62900 5420524.93100
SE_QUAD_CORNERY_XY: 486251.49400 5413577.22100
SW_QUAD_CORNER_XY: 481668.66200 5413590.40100
SECONDARY_NW_QUAD_XY: 481690.92100 5420319.10000
SECONDARY_NE_QUAD_XY: 486268.18800 5420305.92300
SECONDARY_SE_QUAD_XY: 486251.05300 5413358.21600
SECONDARY_SW_QUAD_XY: 481668.07400 5413371.39600
RMSE_XY: 5.06000
IMAGE_SOURCE: BLACK AND WHITE FILM
SOURCE_IMAGE_ID: NAPP 10763-012
SOURCE_IMAGE_DATE: 1997 9 20
SOURCE_DEM_DATE: 1998 0 0
AGENCY: WESTERN MAPPING CENTER (WMC)
PRODUCER: WOOLPERT LLP
PRODUCTION_SYSTEM: INTERGRAPH ISPM, ISIR
COMPRESSION: UNDEFINED
STANDARD_VERSION: 1996 12
METADATA_DATE: 2001 10 1
DATA_FILE_SIZE: 39781576
BYTE_COUNT: 5251
