FILENAME: O4810507.NWS.1162583.tif
QUADRANGLE_NAME: WHITETAIL
QUADRANT: NW
WEST_LONGITUDE: -105 15 0.00000
EAST_LONGITUDE: -105 11 15.00000
NORTH_LATITUDE: 49 0 0.00000
SOUTH_LATITUDE: 48 56 15.00000
PRODUCTION_DATE: 2001 9 23
RASTER_ORDER: LEFT_RIGHT/TOP_BOTTOM
BAND_ORGANIZATION: SINGLE FILE
BAND_CONTENT: BLACK&WHITE
BAND_CONTENT: UNDEFINED
BAND_CONTENT: UNDEFINED
BITS_PER_PIXEL: 8
SAMPLES_AND_LINES: 5245 7575
HORIZONTAL_DATUM: NAD83
HORIZONTAL_COORDINATE_SYSTEM: UTM
COORDINATE_ZONE: 13
HORIZONTAL_UNITS: meters
HORIZONTAL_RESOLUTION: 1.00000
SECONDARY_HORIZONTAL_DATUM: NAD27
XY_ORIGIN: 481346.00000 5427794.00000
SECONDARY_XY_ORIGIN: 481385.14300 5427571.95100
NATION: US
NATION: CA
STATE: MT
NW_QUAD_CORNER_XY: 481714.37700 5427485.88900
NE_QUAD_CORNER_XY: 486285.78000 5427472.71700
SE_QUAD_CORNERY_XY: 486268.62900 5420524.93100
SW_QUAD_CORNER_XY: 481691.50800 5420538.10700
SECONDARY_NW_QUAD_XY: 481713.79000 5427266.87900
SECONDARY_NE_QUAD_XY: 486285.34000 5427253.70700
SECONDARY_SE_QUAD_XY: 486268.18800 5420305.92300
SECONDARY_SW_QUAD_XY: 481690.92100 5420319.10000
RMSE_XY: 4.86000
IMAGE_SOURCE: BLACK AND WHITE FILM
SOURCE_IMAGE_ID: NAPP 10763-014
SOURCE_IMAGE_DATE: 1997 9 20
SOURCE_DEM_DATE: 1998 0 0
AGENCY: WESTERN MAPPING CENTER (WMC)
PRODUCER: WOOLPERT LLP
PRODUCTION_SYSTEM: INTERGRAPH ISPM, ISIR
COMPRESSION: UNDEFINED
STANDARD_VERSION: 1996 12
METADATA_DATE: 2001 9 23
DATA_FILE_SIZE: 39736120
BYTE_COUNT: 5245
