FILENAME: O4810508.SWS.1162573.tif
QUADRANGLE_NAME: GOODALE COULEE
QUADRANT: SW
WEST_LONGITUDE: -105 7 30.00000
EAST_LONGITUDE: -105 3 45.00000
NORTH_LATITUDE: 48 56 15.00000
SOUTH_LATITUDE: 48 52 30.00000
PRODUCTION_DATE: 2001 9 23
RASTER_ORDER: LEFT_RIGHT/TOP_BOTTOM
BAND_ORGANIZATION: SINGLE FILE
BAND_CONTENT: BLACK&WHITE
BAND_CONTENT: UNDEFINED
BAND_CONTENT: UNDEFINED
BITS_PER_PIXEL: 8
SAMPLES_AND_LINES: 5239 7567
HORIZONTAL_DATUM: NAD83
HORIZONTAL_COORDINATE_SYSTEM: UTM
COORDINATE_ZONE: 13
HORIZONTAL_UNITS: METERS
HORIZONTAL_RESOLUTION: 1.00000
SECONDARY_HORIZONTAL_DATUM: NAD27
XY_ORIGIN: 490489.00000 5420824.00000
SECONDARY_XY_ORIGIN: 490528.03000 5420602.09300
NATION: US
STATE: MT
NW_QUAD_CORNER_XY: 490845.75100 5420515.52000
NE_QUAD_CORNER_XY: 495422.87500 5420509.87300
SE_QUAD_CORNERY_XY: 495417.16400 5413562.15800
SW_QUAD_CORNER_XY: 490834.32800 5413567.80700
SECONDARY_NW_QUAD_XY: 490845.45800 5420296.51100
SECONDARY_NE_QUAD_XY: 495422.72800 5420290.86400
SECONDARY_SE_QUAD_XY: 495417.01700 5413343.15300
SECONDARY_SW_QUAD_XY: 490834.03400 5413348.80100
RMSE_XY: 5.19000
IMAGE_SOURCE: BLACK AND WHITE FILM
SOURCE_IMAGE_ID: NAPP 9103-106
SOURCE_IMAGE_DATE: 1996 7 15
SOURCE_DEM_DATE: 1998 0 0
AGENCY: WESTERN MAPPING CENTER (WMC)
PRODUCER: WOOLPERT LLP
PRODUCTION_SYSTEM: INTERGRAPH ISPM, ISIR
COMPRESSION: UNDEFINED
STANDARD_VERSION: 1996 12
METADATA_DATE: 2001 10 1
DATA_FILE_SIZE: 39648752
BYTE_COUNT: 5239
