FILENAME: O4810508.NWS.1162571.tif
QUADRANGLE_NAME: GOODALE COULEE
QUADRANT: NW
WEST_LONGITUDE: -105 7 30.00000
EAST_LONGITUDE: -105 3 45.00000
NORTH_LATITUDE: 49 0 0.00000
SOUTH_LATITUDE: 48 56 15.00000
PRODUCTION_DATE: 2001 9 23
RASTER_ORDER: LEFT_RIGHT/TOP_BOTTOM
BAND_ORGANIZATION: SINGLE FILE
BAND_CONTENT: BLACK&WHITE
BAND_CONTENT: UNDEFINED
BAND_CONTENT: UNDEFINED
BITS_PER_PIXEL: 8
SAMPLES_AND_LINES: 5233 7568
HORIZONTAL_DATUM: NAD83
HORIZONTAL_COORDINATE_SYSTEM: UTM
COORDINATE_ZONE: 13
HORIZONTAL_UNITS: meters
HORIZONTAL_RESOLUTION: 1.00000
SECONDARY_HORIZONTAL_DATUM: NAD27
XY_ORIGIN: 490501.00000 5427772.00000
SECONDARY_XY_ORIGIN: 490540.01500 5427550.08500
NATION: US
NATION: CA
STATE: MT
NW_QUAD_CORNER_XY: 490857.18500 5427463.30800
NE_QUAD_CORNER_XY: 495428.59200 5427457.66300
SE_QUAD_CORNERY_XY: 495422.87500 5420509.87300
SW_QUAD_CORNER_XY: 490845.75100 5420515.52000
SECONDARY_NW_QUAD_XY: 490856.89200 5427244.29800
SECONDARY_NE_QUAD_XY: 495428.44600 5427238.65300
SECONDARY_SE_QUAD_XY: 495422.72800 5420290.86400
SECONDARY_SW_QUAD_XY: 490845.45800 5420296.51100
RMSE_XY: 4.61000
IMAGE_SOURCE: BLACK AND WHITE FILM
SOURCE_IMAGE_ID: NAPP 9103-104
SOURCE_IMAGE_DATE: 1996 7 15
SOURCE_DEM_DATE: 1998 0 0
AGENCY: WESTERN MAPPING CENTER (WMC)
PRODUCER: WOOLPERT LLP
PRODUCTION_SYSTEM: INTERGRAPH ISPM, ISIR
COMPRESSION: UNDEFINED
STANDARD_VERSION: 1996 12
METADATA_DATE: 2001 9 23
DATA_FILE_SIZE: 39608577
BYTE_COUNT: 5233
