FILENAME: O4810509.SES.1165529.tif
QUADRANGLE_NAME: HORSESHOE BASIN
QUADRANT: SE
WEST_LONGITUDE: -105 56 15.00000
EAST_LONGITUDE: -105 52 30.00000
NORTH_LATITUDE: 48 48 45.00000
SOUTH_LATITUDE: 48 45 0.00000
PRODUCTION_DATE: 2001 9 15
RASTER_ORDER: LEFT_RIGHT/TOP_BOTTOM
BAND_ORGANIZATION: SINGLE FILE
BAND_CONTENT: BLACK&WHITE
BAND_CONTENT: UNDEFINED
BAND_CONTENT: UNDEFINED
BITS_PER_PIXEL: 8
SAMPLES_AND_LINES: 5327 7616
HORIZONTAL_DATUM: NAD83
HORIZONTAL_COORDINATE_SYSTEM: UTM
COORDINATE_ZONE: 13
HORIZONTAL_UNITS: meters
HORIZONTAL_RESOLUTION: 1.00000
SECONDARY_HORIZONTAL_DATUM: NAD27
XY_ORIGIN: 430739.00000 5407345.00000
SECONDARY_XY_ORIGIN: 430778.60100 5407122.63200
NATION: US
STATE: MT
NW_QUAD_CORNER_XY: 431172.26300 5407036.41700
NE_QUAD_CORNER_XY: 435760.73100 5406981.79400
SE_QUAD_CORNERY_XY: 435680.91700 5400034.33700
SW_QUAD_CORNER_XY: 431086.74800 5400088.97400
SECONDARY_NW_QUAD_XY: 431170.06100 5406817.42800
SECONDARY_NE_QUAD_XY: 435758.67500 5406762.80400
SECONDARY_SE_QUAD_XY: 435678.86100 5399815.35000
SECONDARY_SW_QUAD_XY: 431084.54600 5399869.99000
RMSE_XY: 3.41000
IMAGE_SOURCE: BLACK AND WHITE FILM
SOURCE_IMAGE_ID: NAPP 9095-124
SOURCE_IMAGE_DATE: 1996 7 9
SOURCE_DEM_DATE: 1998 0 0
AGENCY: WESTERN MAPPING CENTER (WMC)
PRODUCER: WOOLPERT LLP
PRODUCTION_SYSTEM: INTERGRAPH ISPM, ISIR
COMPRESSION: UNDEFINED
STANDARD_VERSION: 1996 12
METADATA_DATE: 2001 9 17
DATA_FILE_SIZE: 40575759
BYTE_COUNT: 5327
