FILENAME: O4810510.SWS.1165550.tif
QUADRANGLE_NAME: PEERLESS
QUADRANT: SW
WEST_LONGITUDE: -105 52 30.00000
EAST_LONGITUDE: -105 48 45.00000
NORTH_LATITUDE: 48 48 45.00000
SOUTH_LATITUDE: 48 45 0.00000
PRODUCTION_DATE: 2001 9 15
RASTER_ORDER: LEFT_RIGHT/TOP_BOTTOM
BAND_ORGANIZATION: SINGLE FILE
BAND_CONTENT: BLACK&WHITE
BAND_CONTENT: UNDEFINED
BAND_CONTENT: UNDEFINED
BITS_PER_PIXEL: 8
SAMPLES_AND_LINES: 5321 7613
HORIZONTAL_DATUM: NAD83
HORIZONTAL_COORDINATE_SYSTEM: UTM
COORDINATE_ZONE: 13
HORIZONTAL_UNITS: meters
HORIZONTAL_RESOLUTION: 1.00000
SECONDARY_HORIZONTAL_DATUM: NAD27
XY_ORIGIN: 435334.00000 5407291.00000
SECONDARY_XY_ORIGIN: 435373.57800 5407068.70700
NATION: US
STATE: MT
NW_QUAD_CORNER_XY: 435760.73100 5406981.79400
NE_QUAD_CORNER_XY: 440349.20800 5406930.94000
SE_QUAD_CORNERY_XY: 440275.09600 5399983.46700
SW_QUAD_CORNER_XY: 435680.91700 5400034.33700
SECONDARY_NW_QUAD_XY: 435758.67500 5406762.80400
SECONDARY_NE_QUAD_XY: 440347.29900 5406711.94700
SECONDARY_SE_QUAD_XY: 440273.18700 5399764.47900
SECONDARY_SW_QUAD_XY: 435678.86100 5399815.35000
RMSE_XY: 2.98000
IMAGE_SOURCE: BLACK AND WHITE FILM
SOURCE_IMAGE_ID: NAPP 10763-039
SOURCE_IMAGE_DATE: 1997 9 20
SOURCE_DEM_DATE: 1998 0 0
AGENCY: WESTERN MAPPING CENTER (WMC)
PRODUCER: WOOLPERT LLP
PRODUCTION_SYSTEM: INTERGRAPH ISPM, ISIR
COMPRESSION: UNDEFINED
STANDARD_VERSION: 1996 12
METADATA_DATE: 2001 9 17
DATA_FILE_SIZE: 40514094
BYTE_COUNT: 5321
