FILENAME: O4810511.SWS.1165651.tif
QUADRANGLE_NAME: KILLENBECK RESERVOIR
QUADRANT: SW
WEST_LONGITUDE: -105 45 0.00000
EAST_LONGITUDE: -105 41 15.00000
NORTH_LATITUDE: 48 48 45.00000
SOUTH_LATITUDE: 48 45 0.00000
PRODUCTION_DATE: 2001 11 15
RASTER_ORDER: LEFT_RIGHT/TOP_BOTTOM
BAND_ORGANIZATION: SINGLE FILE
BAND_CONTENT: BLACK&WHITE
BAND_CONTENT: UNDEFINED
BAND_CONTENT: UNDEFINED
BITS_PER_PIXEL: 8
SAMPLES_AND_LINES: 5310 7604
HORIZONTAL_DATUM: NAD83
HORIZONTAL_COORDINATE_SYSTEM: UTM
COORDINATE_ZONE: 13
HORIZONTAL_UNITS: METERS
HORIZONTAL_RESOLUTION: 1.00000
SECONDARY_HORIZONTAL_DATUM: NAD27
XY_ORIGIN: 444522.00000 5407192.00000
SECONDARY_XY_ORIGIN: 444561.53300 5406969.85900
NATION: US
STATE: MT
NW_QUAD_CORNER_XY: 444937.69400 5406883.85200
NE_QUAD_CORNER_XY: 449526.19000 5406840.53200
SE_QUAD_CORNERY_XY: 449463.48000 5399893.03400
SW_QUAD_CORNER_XY: 444869.28400 5399936.36600
SECONDARY_NW_QUAD_XY: 444935.93300 5406664.85800
SECONDARY_NE_QUAD_XY: 449524.57500 5406621.53700
SECONDARY_SE_QUAD_XY: 449461.86500 5399674.04300
SECONDARY_SW_QUAD_XY: 444867.52200 5399717.37700
RMSE_XY: 3.08000
IMAGE_SOURCE: BLACK AND WHITE FILM
SOURCE_IMAGE_ID: NAPP 9105-146
SOURCE_IMAGE_DATE: 1996 8 1
SOURCE_DEM_DATE: 1998 0 0
AGENCY: WESTERN MAPPING CENTER (WMC)
PRODUCER: WOOLPERT LLP
PRODUCTION_SYSTEM: INTERGRAPH ISPM, ISIR
COMPRESSION: UNDEFINED
STANDARD_VERSION: 1996 12
METADATA_DATE: 2001 11 15
DATA_FILE_SIZE: 40382550
BYTE_COUNT: 5310
