FILENAME: O4810511.NWS.1165649.tif
QUADRANGLE_NAME: KILLENBECK RESERVOIR
QUADRANT: NW
WEST_LONGITUDE: -105 45 0.00000
EAST_LONGITUDE: -105 41 15.00000
NORTH_LATITUDE: 48 52 30.00000
SOUTH_LATITUDE: 48 48 45.00000
PRODUCTION_DATE: 2001 11 15
RASTER_ORDER: LEFT_RIGHT/TOP_BOTTOM
BAND_ORGANIZATION: SINGLE FILE
BAND_CONTENT: BLACK&WHITE
BAND_CONTENT: UNDEFINED
BAND_CONTENT: UNDEFINED
BITS_PER_PIXEL: 8
SAMPLES_AND_LINES: 5303 7605
HORIZONTAL_DATUM: NAD83
HORIZONTAL_COORDINATE_SYSTEM: UTM
COORDINATE_ZONE: 13
HORIZONTAL_UNITS: METERS
HORIZONTAL_RESOLUTION: 1.00000
SECONDARY_HORIZONTAL_DATUM: NAD27
XY_ORIGIN: 444591.00000 5414140.00000
SECONDARY_XY_ORIGIN: 444630.54000 5413917.87900
NATION: US
STATE: MT
NW_QUAD_CORNER_XY: 445006.17100 5413831.41300
NE_QUAD_CORNER_XY: 449588.96000 5413788.10500
SE_QUAD_CORNERY_XY: 449526.19000 5406840.53200
SW_QUAD_CORNER_XY: 444937.69400 5406883.85200
SECONDARY_NW_QUAD_XY: 445004.40900 5413612.41500
SECONDARY_NE_QUAD_XY: 449587.34500 5413569.10700
SECONDARY_SE_QUAD_XY: 449524.57500 5406621.53700
SECONDARY_SW_QUAD_XY: 444935.93300 5406664.85800
RMSE_XY: 3.11000
IMAGE_SOURCE: BLACK AND WHITE FILM
SOURCE_IMAGE_ID: NAPP 9105-144
SOURCE_IMAGE_DATE: 1996 8 1
SOURCE_DEM_DATE: 1998 0 0
AGENCY: WESTERN MAPPING CENTER (WMC)
PRODUCER: WOOLPERT LLP
PRODUCTION_SYSTEM: INTERGRAPH ISPM, ISIR
COMPRESSION: UNDEFINED
STANDARD_VERSION: 1996 12
METADATA_DATE: 2001 11 15
DATA_FILE_SIZE: 40334618
BYTE_COUNT: 5303
