FILENAME: O4810512.NWS.1165568.tif
QUADRANGLE_NAME: FOUR BUTTES
QUADRANT: NW
WEST_LONGITUDE: -105 37 30.00000
EAST_LONGITUDE: -105 33 45.00000
NORTH_LATITUDE: 48 52 30.00000
SOUTH_LATITUDE: 48 48 45.00000
PRODUCTION_DATE: 2001 9 15
RASTER_ORDER: LEFT_RIGHT/TOP_BOTTOM
BAND_ORGANIZATION: SINGLE FILE
BAND_CONTENT: BLACK&WHITE
BAND_CONTENT: UNDEFINED
BAND_CONTENT: UNDEFINED
BITS_PER_PIXEL: 8
SAMPLES_AND_LINES: 5292 7597
HORIZONTAL_DATUM: NAD83
HORIZONTAL_COORDINATE_SYSTEM: UTM
COORDINATE_ZONE: 13
HORIZONTAL_UNITS: meters
HORIZONTAL_RESOLUTION: 1.00000
SECONDARY_HORIZONTAL_DATUM: NAD27
XY_ORIGIN: 453768.00000 5414057.00000
SECONDARY_XY_ORIGIN: 453807.46600 5413834.99300
NATION: US
STATE: MT
NW_QUAD_CORNER_XY: 454171.75600 5413748.56400
NE_QUAD_CORNER_XY: 458754.56000 5413712.78900
SE_QUAD_CORNERY_XY: 458703.20300 5406765.19400
SW_QUAD_CORNER_XY: 454114.69300 5406800.97900
SECONDARY_NW_QUAD_XY: 454170.28800 5413529.56400
SECONDARY_NE_QUAD_XY: 458753.23800 5413493.78800
SECONDARY_SE_QUAD_XY: 458701.88200 5406546.19600
SECONDARY_SW_QUAD_XY: 454113.22500 5406581.98300
RMSE_XY: 3.47000
IMAGE_SOURCE: BLACK AND WHITE FILM
SOURCE_IMAGE_ID: NAPP 9094-096
SOURCE_IMAGE_DATE: 1996 7 9
SOURCE_DEM_DATE: 1998 0 0
AGENCY: WESTERN MAPPING CENTER (WMC)
PRODUCER: WOOLPERT LLP
PRODUCTION_SYSTEM: INTERGRAPH ISPM, ISIR
COMPRESSION: UNDEFINED
STANDARD_VERSION: 1996 12
METADATA_DATE: 2001 9 17
DATA_FILE_SIZE: 40208616
BYTE_COUNT: 5292
