FILENAME: O4810514.NES.1162598.tif
QUADRANGLE_NAME: MADOC
QUADRANT: NE
WEST_LONGITUDE: -105 18 45.00000
EAST_LONGITUDE: -105 15 0.00000
NORTH_LATITUDE: 48 52 30.00000
SOUTH_LATITUDE: 48 48 45.00000
PRODUCTION_DATE: 2001 9 23
RASTER_ORDER: LEFT_RIGHT/TOP_BOTTOM
BAND_ORGANIZATION: SINGLE FILE
BAND_CONTENT: BLACK&WHITE
BAND_CONTENT: UNDEFINED
BAND_CONTENT: UNDEFINED
BITS_PER_PIXEL: 8
SAMPLES_AND_LINES: 5262 7579
HORIZONTAL_DATUM: NAD83
HORIZONTAL_COORDINATE_SYSTEM: UTM
COORDINATE_ZONE: 13
HORIZONTAL_UNITS: meters
HORIZONTAL_RESOLUTION: 1.00000
SECONDARY_HORIZONTAL_DATUM: NAD27
XY_ORIGIN: 476712.00000 5413916.00000
SECONDARY_XY_ORIGIN: 476751.22400 5413694.04400
NATION: US
STATE: MT
NW_QUAD_CORNER_XY: 477085.83200 5413607.34700
NE_QUAD_CORNER_XY: 481668.66200 5413590.40100
SE_QUAD_CORNERY_XY: 481645.83700 5406642.77100
SW_QUAD_CORNER_XY: 477057.30200 5406659.72200
SECONDARY_NW_QUAD_XY: 477085.09800 5413388.34300
SECONDARY_NE_QUAD_XY: 481668.07400 5413371.39600
SECONDARY_SE_QUAD_XY: 481645.25000 5406423.76900
SECONDARY_SW_QUAD_XY: 477056.56700 5406440.72100
RMSE_XY: 2.14000
IMAGE_SOURCE: BLACK AND WHITE FILM
SOURCE_IMAGE_ID: NAPP 9116-141
SOURCE_IMAGE_DATE: 1996 8 27
SOURCE_DEM_DATE: 1998 0 0
AGENCY: WESTERN MAPPING CENTER (WMC)
PRODUCER: WOOLPERT LLP
PRODUCTION_SYSTEM: INTERGRAPH ISPM, ISIR
COMPRESSION: UNDEFINED
STANDARD_VERSION: 1996 12
METADATA_DATE: 2001 9 23
DATA_FILE_SIZE: 39885960
BYTE_COUNT: 5262
