FILENAME: O4810515.SES.1162588.tif
QUADRANGLE_NAME: FLAXVILLE
QUADRANT: SE
WEST_LONGITUDE: -105 11 15.00000
EAST_LONGITUDE: -105 7 30.00000
NORTH_LATITUDE: 48 48 45.00000
SOUTH_LATITUDE: 48 45 0.00000
PRODUCTION_DATE: 2001 9 23
RASTER_ORDER: LEFT_RIGHT/TOP_BOTTOM
BAND_ORGANIZATION: SINGLE FILE
BAND_CONTENT: BLACK&WHITE
BAND_CONTENT: UNDEFINED
BAND_CONTENT: UNDEFINED
BITS_PER_PIXEL: 8
SAMPLES_AND_LINES: 5256 7571
HORIZONTAL_DATUM: NAD83
HORIZONTAL_COORDINATE_SYSTEM: UTM
COORDINATE_ZONE: 13
HORIZONTAL_UNITS: meters
HORIZONTAL_RESOLUTION: 1.00000
SECONDARY_HORIZONTAL_DATUM: NAD27
XY_ORIGIN: 485872.00000 5406938.00000
SECONDARY_XY_ORIGIN: 485911.12200 5406716.08400
NATION: US
STATE: MT
NW_QUAD_CORNER_XY: 486234.37500 5406629.58700
NE_QUAD_CORNER_XY: 490822.91600 5406620.17000
SE_QUAD_CORNERY_XY: 490811.51400 5399672.60900
SW_QUAD_CORNER_XY: 486217.27300 5399682.02800
SECONDARY_NW_QUAD_XY: 486233.93500 5406410.58500
SECONDARY_NE_QUAD_XY: 490822.62200 5406401.16800
SECONDARY_SE_QUAD_XY: 490811.22100 5399453.61100
SECONDARY_SW_QUAD_XY: 486216.83300 5399463.03100
RMSE_XY: 2.61000
IMAGE_SOURCE: BLACK AND WHITE FILM
SOURCE_IMAGE_ID: NAPP 9108-132
SOURCE_IMAGE_DATE: 1996 8 8
SOURCE_DEM_DATE: 1998 0 0
AGENCY: WESTERN MAPPING CENTER (WMC)
PRODUCER: WOOLPERT LLP
PRODUCTION_SYSTEM: INTERGRAPH ISPM, ISIR
COMPRESSION: UNDEFINED
STANDARD_VERSION: 1996 12
METADATA_DATE: 2001 9 23
DATA_FILE_SIZE: 39798432
BYTE_COUNT: 5256
